Workbook
Name fhdata_Query: #REF!
Name PARKS_Query: #REF!
Name sum_data: #REF!

Sheet Annual Report
A1: 2021 Aerial Overview Summary for British Columbia
B2: Great Bear Rainforest | C2: Regions | K2: Provincial
C3: South Coast | D3: West Coast | E3: Cariboo | F3: Thompson/ Okanagan | G3: Kootenay/ Boundary | H3: Skeena | I3: Omineca | J3: Northeast | K3: Total | L3: Real # | M3: Difference
A5: Bark Beetles
A6: IBM=Mountain Pine Beetle | B6: =Master!S6 -> 4442.3566 | C6: =Master!AQ6 -> 674.41121 | D6: =Master!BQ6 -> 13.114261 | E6: =Master!CQ6 -> 35530.476 | F6: =Master!DZ6 -> 1431.3247 | G6: =Master!FV6 -> 7911.5868 | H6: =Master!HX6 -> 4034.0082 | I6: =Master!IV6 -> 15850.992 | J6: =Master!JT6 -> 3350.1408 | K6: =SUM(B6:J6) -> 73238.411
A7: IBS=Spruce Beetle | B7: =Master!S7 -> 455.01778 | C7: =Master!AQ7 -> 22.055477 | D7: =Master!BQ7 -> 1856.0125 | E7: =Master!CQ7 -> 11077.237 | F7: =Master!DZ7 -> 6503.8338 | G7: =Master!FV7 -> 6370.8582 | H7: =Master!HX7 -> 51918.007 | I7: =Master!IV7 -> 319259.85 | J7: =Master!JT7 -> 73205.571 | K7: =SUM(B7:J7) -> 470668.44
A8: IBB=Western Balsam Bark Beetle | B8: =Master!S8 -> 46914.049 | C8: =Master!AQ8 -> 6509.6825 | D8: =Master!BQ8 -> 0 | E8: =Master!CQ8 -> 76409.627 | F8: =Master!DZ8 -> 42572.456 | G8: =Master!FV8 -> 37879.992 | H8: =Master!HX8 -> 1177766.1 | I8: =Master!IV8 -> 1001474.1 | J8: =Master!JT8 -> 166997.63 | K8: =SUM(B8:J8) -> 2556523.6
A9: IBD=Douglas-fir Beetle | B9: =Master!S9 -> 269.93265 | C9: =Master!AQ9 -> 1472.2431 | D9: =Master!BQ9 -> 857.40984 | E9: =Master!CQ9 -> 81933.568 | F9: =Master!DZ9 -> 6607.2191 | G9: =Master!FV9 -> 12831.408 | H9: =Master!HX9 -> 178.16165 | I9: =Master!IV9 -> 1889.484 | J9: =Master!JT9 -> 0 | K9: =SUM(B9:J9) -> 106039.43
A10: IBF=Fir engraver beetle | B10: =Master!S10 -> 0 | C10: =Master!AQ10 -> 0 | D10: =Master!BQ10 -> 0 | E10: =Master!CQ10 -> 0 | F10: =Master!DZ10 -> 0 | G10: =Master!FV10 -> 0 | H10: =Master!HX10 -> 0 | I10: =Master!IV10 -> 0 | J10: =Master!JT10 -> 0 | K10: =SUM(B10:J10) -> 0
A11: IBP=Twig beetle | B11: =Master!S11 -> 0 | C11: =Master!AQ11 -> 0 | D11: =Master!BQ11 -> 0 | E11: =Master!CQ11 -> 0 | F11: =Master!DZ11 -> 0 | G11: =Master!FV11 -> 0 | H11: =Master!HX11 -> 0 | I11: =Master!IV11 -> 0 | J11: =Master!JT11 -> 0 | K11: =SUM(B11:J11) -> 0
A12: IBI=Engraver Beetle (Ips species) | B12: =Master!S12 -> 0 | C12: =Master!AQ12 -> 0 | D12: =Master!BQ12 -> 0 | E12: =Master!CQ12 -> 0 | F12: =Master!DZ12 -> 0 | G12: =Master!FV12 -> 0 | H12: =Master!HX12 -> 0 | I12: =Master!IV12 -> 0 | J12: =Master!JT12 -> 0 | K12: =SUM(B12:J12) -> 0
A13: IBW=Western Pine Beetle | B13: =Master!S13 -> 0 | C13: =Master!AQ13 -> 0 | D13: =Master!BQ13 -> 0 | E13: =Master!CQ13 -> 0 | F13: =Master!DZ13 -> 0.5 | G13: =Master!FV13 -> 0 | H13: =Master!HX13 -> 0 | I13: =Master!IV13 -> 0 | J13: =Master!JT13 -> 0 | K13: =SUM(B13:J13) -> 0.5
A14: IBL=Lodgepole Pine Beetle | B14: =Master!S14 -> 0 | C14: =Master!AQ14 -> 0 | D14: =Master!BQ14 -> 0 | E14: =Master!CQ14 -> 0 | F14: =Master!DZ14 -> 0 | G14: =Master!FV14 -> 0 | H14: =Master!HX14 -> 0 | I14: =Master!IV14 -> 0 | J14: =Master!JT14 -> 0 | K14: =SUM(B14:J14) -> 0
A15: IBT=Red Turpentine Beetle | B15: =Master!S15 -> 0 | C15: =Master!AQ15 -> 0 | D15: =Master!BQ15 -> 0 | E15: =Master!CQ15 -> 0 | F15: =Master!DZ15 -> 0 | G15: =Master!FV15 -> 0 | H15: =Master!HX15 -> 0 | I15: =Master!IV15 -> 0 | J15: =Master!JT15 -> 0 | K15: =SUM(B15:J15) -> 0
A16: IB=Unknown Bark Beetle Mortality | B16: =Master!S16 -> 0 | C16: =Master!AQ16 -> 0 | D16: =Master!BQ16 -> 0 | E16: =Master!CQ16 -> 0 | F16: =Master!DZ16 -> 0 | G16: =Master!FV16 -> 0 | H16: =Master!HX16 -> 0 | I16: =Master!IV16 -> 0 | J16: =Master!JT16 -> 0.5 | K16: =SUM(B16:J16) -> 0.5
A17: IWW=Warrens Root Collar Weevil | B17: =Master!S17 -> 0 | C17: =Master!AQ17 -> 0 | D17: =Master!BQ17 -> 0 | E17: =Master!CQ17 -> 0 | F17: =Master!DZ17 -> 0 | G17: =Master!FV17 -> 0 | H17: =Master!HX17 -> 0 | I17: =Master!IV17 -> 0 | J17: =Master!JT17 -> 0 | K17: =SUM(B17:J17) -> 0
A18: Total All BB= | B18: =Master!S18 -> 52081.356 | C18: =Master!AQ18 -> 8678.3922 | D18: =Master!BQ18 -> 2726.5366 | E18: =Master!CQ18 -> 204950.91 | F18: =Master!DZ18 -> 57115.334 | G18: =Master!FV18 -> 64993.845 | H18: =Master!HX18 -> 1233896.3 | I18: =Master!IV18 -> 1338474.4 | J18: =Master!JT18 -> 243553.84 | K18: =SUM(B18:J18) -> 3206470.9
A20: Defoliators
A21: ID=Defoliators | B21: =Master!S21 -> 165.8902 | C21: =Master!AQ21 -> 0 | D21: =Master!BQ21 -> 0 | E21: =Master!CQ21 -> 234.01028 | F21: =Master!DZ21 -> 25.831304 | G21: =Master!FV21 -> 0 | H21: =Master!HX21 -> 1170.7882 | I21: =Master!IV21 -> 0 | J21: =Master!JT21 -> 464.05019 | K21: =SUM(B21:J21) -> 2060.5701
A22: IAB=Balsam Woolly Adelgid | B22: =Master!S22 -> 351.92981 | C22: =Master!AQ22 -> 464.29452 | D22: =Master!BQ22 -> 337.03718 | E22: =Master!CQ22 -> 0 | F22: =Master!DZ22 -> 8.3698384 | G22: =Master!FV22 -> 0 | H22: =Master!HX22 -> 0 | I22: =Master!IV22 -> 0 | J22: =Master!JT22 -> 0 | K22: =SUM(B22:J22) -> 1161.6313
A23: IAS=Green Spruce Aphid | B23: =Master!S23 -> 0 | C23: =Master!AQ23 -> 0 | D23: =Master!BQ23 -> 0 | E23: =Master!CQ23 -> 0 | F23: =Master!DZ23 -> 0 | G23: =Master!FV23 -> 0 | H23: =Master!HX23 -> 0 | I23: =Master!IV23 -> 0 | J23: =Master!JT23 -> 0 | K23: =SUM(B23:J23) -> 0
A24: ID1=Leaf Beetles | B24: =Master!S24 -> 0 | C24: =Master!AQ24 -> 0 | D24: =Master!BQ24 -> 0 | E24: =Master!CQ24 -> 0 | F24: =Master!DZ24 -> 0 | G24: =Master!FV24 -> 0 | H24: =Master!HX24 -> 0 | I24: =Master!IV24 -> 0 | J24: =Master!JT24 -> 0 | K24: =SUM(B24:J24) -> 0
A25: ID2=Bruce spanworm | B25: =Master!S25 -> 0 | C25: =Master!AQ25 -> 0 | D25: =Master!BQ25 -> 0 | E25: =Master!CQ25 -> 0 | F25: =Master!DZ25 -> 0 | G25: =Master!FV25 -> 0 | H25: =Master!HX25 -> 0 | I25: =Master!IV25 -> 0 | J25: =Master!JT25 -> 0 | K25: =SUM(B25:J25) -> 0
A26: ID6=Aspen Leaf Miner | B26: =Master!S26 -> 645.5268 | C26: =Master!AQ26 -> 0 | D26: =Master!BQ26 -> 0 | E26: =Master!CQ26 -> 199038.14 | F26: =Master!DZ26 -> 27145.251 | G26: =Master!FV26 -> 21704.346 | H26: =Master!HX26 -> 406682 | I26: =Master!IV26 -> 203424.95 | J26: =Master!JT26 -> 469228.57 | K26: =SUM(B26:J26) -> 1327868.8
A27: IDA=Black Army Cutworm | B27: =Master!S27 -> 0 | C27: =Master!AQ27 -> 0 | D27: =Master!BQ27 -> 0 | E27: =Master!CQ27 -> 0 | F27: =Master!DZ27 -> 0 | G27: =Master!FV27 -> 0 | H27: =Master!HX27 -> 0 | I27: =Master!IV27 -> 0 | J27: =Master!JT27 -> 0 | K27: =SUM(B27:J27) -> 0
A28: IDB=2-Year Budworm | B28: =Master!S28 -> 0 | C28: =Master!AQ28 -> 0 | D28: =Master!BQ28 -> 0 | E28: =Master!CQ28 -> 4627.7313 | F28: =Master!DZ28 -> 1533.5472 | G28: =Master!FV28 -> 73.414242 | H28: =Master!HX28 -> 227374.45 | I28: =Master!IV28 -> 60892.165 | J28: =Master!JT28 -> 15547.924 | K28: =SUM(B28:J28) -> 310049.24
A29: IDC=Larch casebearer | B29: =Master!S29 -> 0 | C29: =Master!AQ29 -> 0 | D29: =Master!BQ29 -> 0 | E29: =Master!CQ29 -> 0 | F29: =Master!DZ29 -> 0 | G29: =Master!FV29 -> 32.976259 | H29: =Master!HX29 -> 0 | I29: =Master!IV29 -> 0 | J29: =Master!JT29 -> 0 | K29: =SUM(B29:J29) -> 32.976259
A30: IDD=Western Winter Moth | B30: =Master!S30 -> 0 | C30: =Master!AQ30 -> 0 | D30: =Master!BQ30 -> 0 | E30: =Master!CQ30 -> 0 | F30: =Master!DZ30 -> 0 | G30: =Master!FV30 -> 0 | H30: =Master!HX30 -> 0 | I30: =Master!IV30 -> 0 | J30: =Master!JT30 -> 0 | K30: =SUM(B30:J30) -> 0
A31: IDE=Eastern Spruce Budworm | B31: =Master!S31 -> 0 | C31: =Master!AQ31 -> 0 | D31: =Master!BQ31 -> 0 | E31: =Master!CQ31 -> 0 | F31: =Master!DZ31 -> 0 | G31: =Master!FV31 -> 0 | H31: =Master!HX31 -> 0 | I31: =Master!IV31 -> 0 | J31: =Master!JT31 -> 36449.315 | K31: =SUM(B31:J31) -> 36449.315
A32: IDF=Forest Tent Caterpillar | B32: =Master!S32 -> 0 | C32: =Master!AQ32 -> 0 | D32: =Master!BQ32 -> 0 | E32: =Master!CQ32 -> 0 | F32: =Master!DZ32 -> 51.2913 | G32: =Master!FV32 -> 0 | H32: =Master!HX32 -> 0 | I32: =Master!IV32 -> 0 | J32: =Master!JT32 -> 0 | K32: =SUM(B32:J32) -> 51.2913
... A49: Total Defoliators= | B49: =Master!S49 -> 1163.3468 | C49: =Master!AQ49 -> 21399.952 | D49: =Master!BQ49 -> 553.63658 | E49: =Master!CQ49 -> 264100.04 | F49: =Master!DZ49 -> 33944.174 | G49: =Master!FV49 -> 35226.274 | H49: =Master!HX49 -> 635227.24 | I49: =Master!IV49 -> 274460.25 | J49: =Master!JT49 -> 743829.54 | K49: =SUM(B49:J49) -> 2009904.5
A51: Other
A52: N | B52: =Master!S52 -> 0 | C52: =Master!AQ52 -> 0 | D52: =Master!BQ52 -> 251.05262 | E52: =Master!CQ52 -> 0 | F52: =Master!DZ52 -> 0 | G52: =Master!FV52 -> 0 | H52: =Master!HX52 -> 0 | I52: =Master!IV52 -> 0 | J52: =Master!JT52 -> 0 | K52: =SUM(B52:J52) -> 251.05262
A53: NAV=Avalanche or snow slide | B53: =Master!S53 -> 0 | C53: =Master!AQ53 -> 0 | D53: =Master!BQ53 -> 0 | E53: =Master!CQ53 -> 0 | F53: =Master!DZ53 -> 0 | G53: =Master!FV53 -> 0 | H53: =Master!HX53 -> 0 | I53: =Master!IV53 -> 0 | J53: =Master!JT53 -> 0 | K53: =SUM(B53:J53) -> 0
A54: NB=Fire | B54: =Master!S54 -> 314.63432 | C54: =Master!AQ54 -> 7516.0824 | D54: =Master!BQ54 -> 132.82769 | E54: =Master!CQ54 -> 147141.44 | F54: =Master!DZ54 -> 471995.36 | G54: =Master!FV54 -> 77578.251 | H54: =Master!HX54 -> 28681.202 | I54: =Master!IV54 -> 101236.59 | J54: =Master!JT54 -> 29033.508 | K54: =SUM(B54:J54) -> 863629.9
A55: NBP=Post Fire | B55: =Master!S55 -> 616.9303 | C55: =Master!AQ55 -> 174.55951 | D55: =Master!BQ55 -> 0 | E55: =Master!CQ55 -> 2956.1697 | F55: =Master!DZ55 -> 603.67278 | G55: =Master!FV55 -> 82.912603 | H55: =Master!HX55 -> 2614.1023 | I55: =Master!IV55 -> 3787.9773 | J55: =Master!JT55 -> 163.61545 | K55: =SUM(B55:J55) -> 10999.94
A56: NCA=Aspen decline | B56: =Master!S56 -> 0 | C56: =Master!AQ56 -> 0 | D56: =Master!BQ56 -> 0 | E56: =Master!CQ56 -> 166.04675 | F56: =Master!DZ56 -> 217.335 | G56: =Master!FV56 -> 0 | H56: =Master!HX56 -> 0 | I56: =Master!IV56 -> 0 | J56: =Master!JT56 -> 14.751834 | K56: =SUM(B56:J56) -> 398.13358
A57: NCB=Birch decline | B57: =Master!S57 -> 0 | C57: =Master!AQ57 -> 0 | D57: =Master!BQ57 -> 0 | E57: =Master!CQ57 -> 0 | F57: =Master!DZ57 -> 0 | G57: =Master!FV57 -> 0 | H57: =Master!HX57 -> 0 | I57: =Master!IV57 -> 0 | J57: =Master!JT57 -> 0 | K57: =SUM(B57:J57) -> 0
A58: NCF=Douglas-fir decline | B58: =Master!S58 -> 0 | C58: =Master!AQ58 -> 0 | D58: =Master!BQ58 -> 0 | E58: =Master!CQ58 -> 0 | F58: =Master!DZ58 -> 0 | G58: =Master!FV58 -> 0 | H58: =Master!HX58 -> 0 | I58: =Master!IV58 -> 0 | J58: =Master!JT58 -> 0 | K58: =SUM(B58:J58) -> 0
A59: NCY=Yellow cedar decline | B59: =Master!S59 -> 7801.5959 | C59: =Master!AQ59 -> 116.6795 | D59: =Master!BQ59 -> 2762.5708 | E59: =Master!CQ59 -> 0 | F59: =Master!DZ59 -> 0 | G59: =Master!FV59 -> 0 | H59: =Master!HX59 -> 716.07987 | I59: =Master!IV59 -> 0 | J59: =Master!JT59 -> 0 | K59: =SUM(B59:J59) -> 11396.926
...

Sheet Master
A1: 2021 Aerial Overview Summary for British Columbia by TSA's
T2: South Coast Forest Region | AR2: West Coast Forest Region | BR2: Cariboo Forest Region | CR2: Thompson Okanagan Forest Region | EA2: Kootenay/Boundary Forest Region | FW2: Skeena Forest Region | HY2: Omineca Forest Region | IW2: Northeast Forest Region
A3: TSA's | B3: Great Bear Rainforest North TSA (TGBN) | H3: Great Bear Rainforest South TSA (TGBS) | N3: GREAT BEAR RAINFOREST TOTAL | T3: Fraser | U3: (TFR) | Z3: Soo | AA3: (TSO) | AF3: Sunshine Coast | AH3: (TSC) | AL3: SOUTH COAST FOREST REGION TOTAL | AR3: Arrowsmith | AT3: (TAS) | AX3: Haida Gwaii | AZ3: (THG) | BE3: North Island (TNI) | BK3: WEST COAST FOREST REGION TOTAL | BR3: 100 Mile House | BT3: (TMH) | BX3: Quesnel | BY3: (TQU) | CD3: Williams Lake | CE3: (TWL) | CK3: CARIBOO FOREST REGION TOTAL | CR3: Kamloops | CS3: (TKA) | CY3: Lillooet | CZ3: (TLI) | DF3: Merritt | DG3: (TME) | DM3: Okanagan | DN3: (TOK) | DT3: THOMPSON/OKANAGAN FOREST REGION TOTAL | EA3: Arrow | EB3: (TAR) | EG3: Boundary | EH3: (TBO) | EM3: Cranbrook | EN3: (TCB) | ES3: Golden | ET3: (TGO) | EY3: Invermere | EZ3: (TIN) | FE3: Kootenay Lake | FF3: (TKL) | FK3: Revelstoke | FL3: (TRE) | FQ3: KOOTENAY/BOUNDRY FOREST REGION | FW3: Bulkley | FX3: (TBU) | GC3: Cassiar | GD3: (TCA) | GI3: Kalum | GJ3: (TKM) | GO3: Kispiox | GP3: (TKI) | GU3: Lakes | GV3: (TLA) | HA3: Morice | HB3: (TMO) | HG3: Nass | HH3: (TNA) | HM3: North Coast | HN3: (TNC) | HS3: SKEENA FOREST REGION | HY3: MacKenzie | HZ3: (TMK) | IE3: Robson Valley | IG3: (TRV) | IK3: Prince George | IM3: (TPG) | IQ3: OMINECA FOREST REGION | IW3: Dawson Creek | IY3: (TDC) | JC3: Fort Nelson | JD3: (TFN) | JI3: Fort St. John | JK3: (TJO) | JO3: NORTHEAST FOREST REGION | JV3: GRAND TOTAL
B4: Trace | C4: Light | D4: Moderate | E4: Severe | F4: Very Sev | G4: Total | H4: Trace | I4: Light | J4: Moderate | K4: Severe | L4: Very Sev | M4: Total | N4: Trace | O4: Light | P4: Moderate | Q4: Severe | R4: Ver Sev | S4: Total | T4: Trace | U4: Light | V4: Moderate | W4: Severe | X4: Very Sev | Y4: Total | Z4: Trace | AA4: Light | AB4: Moderate | AC4: Severe | AD4: Very Sev | AE4: Total | AF4: Trace | AG4: Light | AH4: Moderate | AI4: Severe | AJ4: Very Sev | AK4: Total | AL4: Trace | AM4: Light | AN4: Moderate | AO4: Severe | AP4: Ver Sev | AQ4: Total | AR4: Trace | AS4: Light | AT4: Moderate | AU4: Severe | AV4: Very Sev | AW4: Total | AX4: Trace | AY4: Light | AZ4: Moderate | BA4: Severe | BB4: Very Sev | BC4: Grey | BD4: Total | BE4: Trace | BF4: Light | BG4: Moderate | BH4: Severe | BI4: Very Sev | BJ4: Total | BK4: Trace | BL4: Light | BM4: Moderate | BN4: Severe | BO4: Ver Sev | BP4: Grey | BQ4: Total | BR4: Trace | BS4: Light | BT4: Moderate | BU4: Severe | BV4: Very Sev | BW4: Total | BX4: Trace | BY4: Light | BZ4: Moderate | CA4: Severe | CB4: Very Sev | CC4: Total | CD4: Trace | CE4: Light | CF4: Moderate | CG4: Severe | CH4: Very Sev | CI4: Grey | CJ4: Total | CK4: Trace | CL4: Light | CM4: Moderate | CN4: Severe | CO4: Ver Sev | CP4: Grey | CQ4: Total | CR4: Trace | CS4: Light | CT4: Moderate | CU4: Severe | CV4: Very Sev | CW4: Grey | CX4: Total | CY4: Trace | CZ4: Light | DA4: Moderate | DB4: Severe | DC4: Very Sev | DD4: Grey | DE4: Total | DF4: Trace | DG4: Light | DH4: Moderate | DI4: Severe | DJ4: Very Sev | DK4: Grey | DL4: Total | DM4: Trace | DN4: Light | DO4: Moderate | DP4: Severe | DQ4: Very Sev | DR4: Grey | DS4: Total | DT4: Trace | DU4: Light | DV4: Moderate | DW4: Severe | DX4: Ver Sev | DY4: Grey | DZ4: Total | EA4: Trace | EB4: Light | EC4: Moderate | ED4: Severe | EE4: Very Sev | EF4: Total | EG4: Trace | EH4: Light | EI4: Moderate | EJ4: Severe | EK4: Very Sev | EL4: Total | EM4: Trace | EN4: Light | EO4: Moderate | EP4: Severe | EQ4: Very Sev | ER4: Total | ES4: Trace | ET4: Light | EU4: Moderate | EV4: Severe | EW4: Very Sev | EX4: Total | EY4: Trace | EZ4: Light | FA4: Moderate | FB4: Severe | FC4: Very Sev | FD4: Total | FE4: Trace | FF4: Light | FG4: Moderate | FH4: Severe | FI4: Very Sev | FJ4: Total | FK4: Trace | FL4: Light | FM4: Moderate | FN4: Severe | FO4: Very Sev | FP4: Total | FQ4: Trace | FR4: Light | FS4: Moderate | FT4: Severe | FU4: Very Sev | FV4: TOTAL | FW4: Trace | FX4: Light | FY4: Moderate | FZ4: Severe | GA4: Very Sev | GB4: Total | GC4: Trace | GD4: Light | GE4: Moderate | GF4: Severe | GG4: Very Sev | GH4: Total | GI4: Trace | GJ4: Light | GK4: Moderate | GL4: Severe | GM4: Very Sev | GN4: Total | GO4: Trace | GP4: Light | GQ4: Moderate | GR4: Severe | GS4: Very Sev | GT4: Total | GU4: Trace | GV4: Light | GW4: Moderate | GX4: Severe | GY4: Very Sev | GZ4: Total | HA4: Trace | HB4: Light | HC4: Moderate | HD4: Severe | HE4: Very Sev | HF4: Total | HG4: Trace | HH4: Light | HI4: Moderate | HJ4: Severe | HK4: Very Sev | HL4: Total | HM4: Trace | HN4: Light | HO4: Moderate | HP4: Severe | HQ4: Very Sev | HR4: Total | HS4: Trace | HT4: Light | HU4: Moderate | HV4: Severe | HW4: Very Sev | HX4: TOTAL | HY4: Trace | HZ4: Light | IA4: Moderate | IB4: Severe | IC4: Very Sev | ID4: Total | IE4: Trace | IF4: Light | IG4: Moderate | IH4: Severe | II4: Very Sev | IJ4: Total | IK4: Trace | IL4: Light | IM4: Moderate | IN4: Severe | IO4: Very Sev | IP4: Total | IQ4: Trace | IR4: Light | IS4: Moderate | IT4: Severe | IU4: Very Sev | IV4: TOTAL | IW4: Trace | IX4: Light | IY4: Moderate | IZ4: Severe | JA4: Very Sev | JB4: Total | JC4: Trace | JD4: Light | JE4: Moderate | JF4: Severe | JG4: Very Sev | JH4: Total | JI4: Trace | JJ4: Light | JK4: Moderate | JL4: Severe | JM4: Very Sev | JN4: Total | JO4: Trace | JP4: Light | JQ4: Moderate | JR4: Severe | JS4: Very Sev | JT4: TOTAL | JV4: Trace | JW4: Light | JX4: Moderate | JY4: Severe | JZ4: Very Sev | KA4: Grey | KB4: TOTAL
A5: Bark Beetles
A6: IBM=Mountain Pine Beetle | B6: 3163.2867 | C6: 403.98973 | D6: 811.31612 | E6: 63.764007 | G6: =SUM(B6:F6) -> 4442.3566 | M6: =SUM(H6:L6) -> 0 | N6: =SUM(B6,H6) -> 3163.2867 | O6: =SUM(C6,I6) -> 403.98973 | P6: =SUM(D6,J6) -> 811.31612 | Q6: =SUM(E6,K6) -> 63.764007 | R6: =SUM(F6,L6) -> 0 | S6: =SUM(N6:R6) -> 4442.3566 | W6: 0.5 | Y6: =SUM(T6:X6) -> 0.5 | AA6: 382.98489 | AB6: 67.899332 | AC6: 72.361027 | AE6: =SUM(Z6:AD6) -> 523.24524 | AF6: 136.92769 | AH6: 11.988275 | AI6: 1.75 | AK6: =SUM(AF6:AJ6) -> 150.66597 | AL6: =SUM(T6,Z6,AF6) -> 136.92769 | AM6: =SUM(U6,AA6,AG6) -> 382.98489 | AN6: =SUM(V6,AB6,AH6) -> 79.887606 | AO6: =SUM(W6,AC6,AI6) -> 74.611027 | AP6: =SUM(X6,AD6,AJ6) -> 0 | AQ6: =SUM(AL6:AP6) -> 674.41121 | AW6: =SUM(AR6:AV6) -> 0 | AX6: 13.114261 | BD6: =SUM(AX6:BC6) -> 13.114261 | BJ6: =SUM(BE6:BI6) -> 0 | BK6: =SUM(AR6,AX6,BE6) -> 13.114261 | BL6: =SUM(AS6,AY6,BF6) -> 0 | BM6: =SUM(AT6,AZ6,BG6) -> 0 | BN6: =SUM(AU6,BA6,BH6) -> 0 | BO6: =SUM(AV6,BB6,BI6) -> 0 | BP6: =SUM(BC6) -> 0 | BQ6: =SUM(BK6:BP6) -> 13.114261 | BW6: =SUM(BR6:BV6) -> 0 | CC6: =SUM(BX6:CB6) -> 0 | CD6: 31090.009 | CE6: 3457.3221 | CF6: 962.64531 | CG6: 20.5 | CJ6: =SUM(CD6:CI6) -> 35530.476 | CK6: =SUM(BR6,BX6,CD6) -> 31090.009 | CL6: =SUM(BS6,BY6,CE6) -> 3457.3221 | CM6: =SUM(BT6,BZ6,CF6) -> 962.64531 | CN6: =SUM(BU6,CA6,CG6) -> 20.5 | CO6: =SUM(BV6,CB6,CH6) -> 0 | CP6: =SUM(CI6) -> 0 | CQ6: =SUM(CK6:CP6) -> 35530.476 | CX6: =SUM(CR6:CW6) -> 0 | CY6: 73.213994 | CZ6: 938.94569 | DA6: 317.88312 | DB6: 50.154037 | DE6: =SUM(CY6:DD6) -> 1380.1968 | DF6: 33.735662 | DI6: 1 | DL6: =SUM(DF6:DK6) -> 34.735662 | DN6: 12.89224 | DP6: 3.5 | DS6: =SUM(DM6:DR6) -> 16.39224 | DT6: =SUM(CR6,CY6,DF6,DM6) -> 106.94966 | DU6: =SUM(CS6,CZ6,DG6,DN6) -> 951.83793 | DV6: =SUM(CT6,DA6,DH6,DO6) -> 317.88312 | DW6: =SUM(CU6,DB6,DI6,DP6) -> 54.654037 | DX6: =SUM(CV6,DC6,DJ6,DQ6) -> 0 | DY6: =SUM(CW6,DD6,DK6,DR6) -> 0 | DZ6: =SUM(DT6:DY6) -> 1431.3247 | EA6: 99.453204 | EB6: 190.55691 | EC6: 61.306256 | ED6: 4.25 | EF6: =SUM(EA6:EE6) -> 355.56637 | EG6: 28.262089 | EI6: 33.13845 | EJ6: 3 | EL6: =SUM(EG6:EK6) -> 64.400539 | EM6: 673.9159 | EN6: 222.00717 | EO6: 618.45358 | EP6: 164.96879 | ER6: =SUM(EM6:EQ6) -> 1679.3454 | ES6: 14.020227 | ET6: 49.93189 | EU6: 164.04143 | EV6: 1.5 | EX6: =SUM(ES6:EW6) -> 229.49355 | EY6: 988.05875 | EZ6: 990.69344 | FA6: 1873.1453 | FB6: 249.352 | FD6: =SUM(EY6:FC6) -> 4101.2495 | FE6: 334.69861 | FF6: 555.63052 | FG6: 558.22102 | FH6: 32.731212 | FJ6: =SUM(FE6:FI6) -> 1481.2814 | FN6: 0.25 | FP6: =SUM(FK6:FO6) -> 0.25 | FQ6: =SUM(EA6,EG6,EM6,ES6,EY6,FE6,FK6) -> 2138.4088 | FR6: =SUM(EB6,EH6,EN6,ET6,EZ6,FF6,FL6) -> 2008.8199 | FS6: =SUM(EC6,EI6,EO6,EU6,FA6,FG6,FM6) -> 3308.306 | FT6: =SUM(ED6,EJ6,EP6,EV6,FB6,FH6,FN6) -> 456.052 | FU6: =SUM(EE6,EK6,EQ6,EW6,FC6,FI6,FO6) -> 0 | FV6: =SUM(FQ6:FU6) -> 7911.5868 | FW6: 1554.2163 | FX6: 1898.8351 | FY6: 381.63676 | FZ6: 4 | GB6: =SUM(FW6:GA6) -> 3838.6882 | GF6: 1.25 | GH6: =SUM(GC6:GG6) -> 1.25 | GN6: =SUM(GI6:GM6) -> 0 | GT6: =SUM(GO6:GS6) -> 0 | GX6: 2.25 | GZ6: =SUM(GU6:GY6) -> 2.25 | HA6: 66.392701 | HC6: 120.17728 | HD6: 5.25 | HF6: =SUM(HA6:HE6) -> 191.81998 | HL6: =SUM(HG6:HK6) -> 0 | HR6: =SUM(HM6:HQ6) -> 0 | HS6: =SUM(FW6,GC6,GI6,GO6,GU6,HA6,HG6,HM6) -> 1620.609 | HT6: =SUM(FX6,GD6,GJ6,GP6,GV6,HB6,HH6,HN6) -> 1898.8351 | HU6: =SUM(HO6,HI6,HC6,GW6,GQ6,GK6,GE6,FY6) -> 501.81404 | HV6: =SUM(HP6,HJ6,HD6,GX6,GR6,GL6,GF6,FZ6) -> 12.75 | HW6: =SUM(HQ6,HK6,HE6,GY6,GS6,GM6,GG6,GA6) -> 0 | HX6: =SUM(HS6:HW6) -> 4034.0082 | HY6: 109.91075 | HZ6: 29.402757 | IB6: 5.5 | ID6: =SUM(HY6:IC6) -> 144.81351 | IE6: 6097.665 | IF6: 7682.0638 | IG6: 1892.4497 | IH6: 30.25 | IJ6: =SUM(IE6:II6) -> 15702.429 | IN6: 3.75 | IP6: =SUM(IK6:IO6) -> 3.75 | IQ6: =SUM(HY6,IE6,IK6) -> 6207.5758 | IR6: =SUM(HZ6,IF6,IL6) -> 7711.4666 | IS6: =SUM(IA6,IG6,IM6) -> 1892.4497 | IT6: =SUM(IB6,IH6,IN6) -> 39.5 | IU6: =SUM(IC6,II6,IO6) -> 0 | IV6: =SUM(IQ6:IU6) -> 15850.992 | IW6: 76.498171 | IX6: 282.28251 | IZ6: 9.25 | JB6: =SUM(IW6:JA6) -> 368.03068 | JC6: 2721.9357 | JF6: 254.92446 | JH6: =SUM(JC6:JG6) -> 2976.8601 | JL6: 5.25 | JN6: =SUM(JI6:JM6) -> 5.25 | JO6: =SUM(IW6,JC6,JI6) -> 2798.4339 | JP6: =SUM(IX6,JD6,JJ6) -> 282.28251 | JQ6: =SUM(IY6,JE6,JK6) -> 0 | JR6: =SUM(IZ6,JF6,JL6) -> 269.42446 | JS6: =SUM(JA6,JG6,JM6) -> 0 | JT6: =SUM(JO6:JS6) -> 3350.1408 | JV6: =SUM(N6,AL6,BK6,CK6,DT6,FQ6,HS6,IQ6,JO6) -> 47275.314 | JW6: =SUM(O6,AM6,BL6,CL6,DU6,FR6,HT6,IR6,JP6) -> 17097.539 | JX6: =SUM(P6,AN6,BM6,CM6,DV6,FS6,HU6,IS6,JQ6) -> 7874.302 | JY6: =SUM(Q6,AO6,BN6,CN6,DW6,FT6,HV6,IT6,JR6) -> 991.25553 | JZ6: =SUM(R6,AP6,BO6,CO6,DX6,FU6,HW6,IU6,JS6) -> 0 | KA6: =SUM(BP6,CP6,DY6) -> 0 | KB6: =SUM(JV6:KA6) -> 73238.411
A7: IBS=Spruce Beetle | B7: 218.3844 | C7: 185.17651 | D7: 3.9377607 | E7: 47.519112 | G7: =SUM(B7:F7) -> 455.01778 | M7: =SUM(H7:L7) -> 0 | N7: =SUM(B7,H7) -> 218.3844 | O7: =SUM(C7,I7) -> 185.17651 | P7: =SUM(D7,J7) -> 3.9377607 | Q7: =SUM(E7,K7) -> 47.519112 | R7: =SUM(F7,L7) -> 0 | S7: =SUM(N7:R7) -> 455.01778 | U7: 20.055477 | W7: 0.5 | Y7: =SUM(T7:X7) -> 20.555477 | AC7: 1 | AE7: =SUM(Z7:AD7) -> 1 | AI7: 0.5 | AK7: =SUM(AF7:AJ7) -> 0.5 | AL7: =SUM(T7,Z7,AF7) -> 0 | AM7: =SUM(U7,AA7,AG7) -> 20.055477 | AN7: =SUM(V7,AB7,AH7) -> 0 | AO7: =SUM(W7,AC7,AI7) -> 2 | AP7: =SUM(X7,AD7,AJ7) -> 0 | AQ7: =SUM(AL7:AP7) -> 22.055477 | AU7: 0.75 | AW7: =SUM(AR7:AV7) -> 0.75 | AX7: 1359.176 | AY7: 54.360078 | AZ7: 277.22074 | BA7: 9.25 | BD7: =SUM(AX7:BC7) -> 1700.0068 | BF7: 150.75573 | BH7: 4.5 | BJ7: =SUM(BE7:BI7) -> 155.25573 | BK7: =SUM(AR7,AX7,BE7) -> 1359.176 | BL7: =SUM(AS7,AY7,BF7) -> 205.11581 | BM7: =SUM(AT7,AZ7,BG7) -> 277.22074 | BN7: =SUM(AU7,BA7,BH7) -> 14.5 | BO7: =SUM(AV7,BB7,BI7) -> 0 | BP7: =SUM(BC7) -> 0 | BQ7: =SUM(BK7:BP7) -> 1856.0125 | BW7: =SUM(BR7:BV7) -> 0 | BX7: 78.582088 | BY7: 433.66156 | BZ7: 51.179247 | CA7: 15.25 | CC7: =SUM(BX7:CB7) -> 578.6729 | CD7: 6405.6103 | CE7: 3692.0357 | CF7: 352.24122 | CG7: 48.67693 | CJ7: =SUM(CD7:CI7) -> 10498.564 | CK7: =SUM(BR7,BX7,CD7) -> 6484.1923 | CL7: =SUM(BS7,BY7,CE7) -> 4125.6973 | CM7: =SUM(BT7,BZ7,CF7) -> 403.42047 | CN7: =SUM(BU7,CA7,CG7) -> 63.92693 | CO7: =SUM(BV7,CB7,CH7) -> 0 | CP7: =SUM(CI7) -> 0 | CQ7: =SUM(CK7:CP7) -> 11077.237 | CR7: 87.789133 | CS7: 1345.7006 | CT7: 2103.9769 | CU7: 297.07362 | CX7: =SUM(CR7:CW7) -> 3834.5402 | CY7: 330.0726 | CZ7: 944.60373 | DA7: 826.42025 | DB7: 568.19698 | DE7: =SUM(CY7:DD7) -> 2669.2936 | DL7: =SUM(DF7:DK7) -> 0 | DS7: =SUM(DM7:DR7) -> 0 | DT7: =SUM(CR7,CY7,DF7,DM7) -> 417.86173 | DU7: =SUM(CS7,CZ7,DG7,DN7) -> 2290.3043 | DV7: =SUM(CT7,DA7,DH7,DO7) -> 2930.3971 | DW7: =SUM(CU7,DB7,DI7,DP7) -> 865.2706 | DX7: =SUM(CV7,DC7,DJ7,DQ7) -> 0 | DY7: =SUM(CW7,DD7,DK7,DR7) -> 0 | DZ7: =SUM(DT7:DY7) -> 6503.8338 | EB7: 12.549091 | ED7: 0.25 | EF7: =SUM(EA7:EE7) -> 12.799091 | EL7: =SUM(EG7:EK7) -> 0 | EM7: 7.2855546 | EN7: 378.99719 | EO7: 1086.9832 | EP7: 640.30499 | EQ7: 9.2011101 | ER7: =SUM(EM7:EQ7) -> 2122.7721 | ES7: 390.36265 | ET7: 843.3739 | EU7: 785.25323 | EV7: 199.41903 | EX7: =SUM(ES7:EW7) -> 2218.4088 | EY7: 721.01458 | EZ7: 515.41745 | FA7: 150.80039 | FB7: 1.75 | FD7: =SUM(EY7:FC7) -> 1388.9824 | FE7: 75.036422 | FF7: 155.4312 | FG7: 192.1368 | FH7: 204.29138 | FJ7: =SUM(FE7:FI7) -> 626.8958 | FN7: 1 | FP7: =SUM(FK7:FO7) -> 1 | FQ7: =SUM(EA7,EG7,EM7,ES7,EY7,FE7,FK7) -> 1193.6992 | FR7: =SUM(EB7,EH7,EN7,ET7,EZ7,FF7,FL7) -> 1905.7688 | FS7: =SUM(EC7,EI7,EO7,EU7,FA7,FG7,FM7) -> 2215.1737 | FT7: =SUM(ED7,EJ7,EP7,EV7,FB7,FH7,FN7) -> 1047.0154 | FU7: =SUM(EE7,EK7,EQ7,EW7,FC7,FI7,FO7) -> 9.2011101 | FV7: =SUM(FQ7:FU7) -> 6370.8582 | FW7: 10077.066 | FX7: 592.408 | FY7: 330.75074 | FZ7: 1.75 | GB7: =SUM(FW7:GA7) -> 11001.975 | GC7: 36.184514 | GF7: 1.5 | GH7: =SUM(GC7:GG7) -> 37.684514 | GI7: 72.322524 | GJ7: 258.90111 | GK7: 37.72178 | GL7: 31.125483 | GN7: =SUM(GI7:GM7) -> 400.0709 | GO7: 6050.9752 | GP7: 627.76214 | GR7: 4.25 | GT7: =SUM(GO7:GS7) -> 6682.9873 | GU7: 267.5206 | GV7: 528.03109 | GW7: 96.724013 | GX7: 50.18385 | GZ7: =SUM(GU7:GY7) -> 942.45955 | HA7: 22628.755 | HB7: 5947.4305 | HC7: 1172.0753 | HD7: 198.19116 | HF7: =SUM(HA7:HE7) -> 29946.452 | HG7: 2247.7347 | HH7: 273.97741 | HI7: 379.91518 | HJ7: 4.75 | HL7: =SUM(HG7:HK7) -> 2906.3773 | HR7: =SUM(HM7:HQ7) -> 0 | HS7: =SUM(FW7,GC7,GI7,GO7,GU7,HA7,HG7,HM7) -> 41380.559 | HT7: =SUM(FX7,GD7,GJ7,GP7,GV7,HB7,HH7,HN7) -> 8228.5102 | HU7: =SUM(HO7,HI7,HC7,GW7,GQ7,GK7,GE7,FY7) -> 2017.1871 | HV7: =SUM(HP7,HJ7,HD7,GX7,GR7,GL7,GF7,FZ7) -> 291.75049 | HW7: =SUM(HQ7,HK7,HE7,GY7,GS7,GM7,GG7,GA7) -> 0 | HX7: =SUM(HS7:HW7) -> 51918.007 | HY7: 5381.5507 | HZ7: 23837.761 | IA7: 1614.8791 | IB7: 57.75 | ID7: =SUM(HY7:IC7) -> 30891.941 | IE7: 377.98796 | IF7: 366.18837 | IG7: 29.245987 | IH7: 6.5 | IJ7: =SUM(IE7:II7) -> 779.92232 | IK7: 32064.922 | IL7: 205729.64 | IM7: 46165.194 | IN7: 3572.405 | IO7: 55.820481 | IP7: =SUM(IK7:IO7) -> 287587.99 | IQ7: =SUM(HY7,IE7,IK7) -> 37824.46 | IR7: =SUM(HZ7,IF7,IL7) -> 229933.59 | IS7: =SUM(IA7,IG7,IM7) -> 47809.319 | IT7: =SUM(IB7,IH7,IN7) -> 3636.655 | IU7: =SUM(IC7,II7,IO7) -> 55.820481 | IV7: =SUM(IQ7:IU7) -> 319259.85 | IW7: 25351.927 | IX7: 31684.746 | IY7: 3460.6391 | IZ7: 1203.3427 | JB7: =SUM(IW7:JA7) -> 61700.655 | JC7: 1264.5471 | JD7: 1338.8686 | JF7: 37.75 | JH7: =SUM(JC7:JG7) -> 2641.1657 | JI7: 5490.7745 | JJ7: 3238.7258 | JL7: 134.25 | JN7: =SUM(JI7:JM7) -> 8863.7503 | JO7: =SUM(IW7,JC7,JI7) -> 32107.249 | JP7: =SUM(IX7,JD7,JJ7) -> 36262.34 | JQ7: =SUM(IY7,JE7,JK7) -> 3460.6391 | JR7: =SUM(IZ7,JF7,JL7) -> 1375.3427 | JS7: =SUM(JA7,JG7,JM7) -> 0 | JT7: =SUM(JO7:JS7) -> 73205.571 | JV7: =SUM(N7,AL7,BK7,CK7,DT7,FQ7,HS7,IQ7,JO7) -> 120985.58 | JW7: =SUM(O7,AM7,BL7,CL7,DU7,FR7,HT7,IR7,JP7) -> 283156.56 | JX7: =SUM(P7,AN7,BM7,CM7,DV7,FS7,HU7,IS7,JQ7) -> 59117.295 | JY7: =SUM(Q7,AO7,BN7,CN7,DW7,FT7,HV7,IT7,JR7) -> 7343.9803 | JZ7: =SUM(R7,AP7,BO7,CO7,DX7,FU7,HW7,IU7,JS7) -> 65.021592 | KA7: =SUM(BP7,CP7,DY7) -> 0 | KB7: =SUM(JV7:KA7) -> 470668.44
A8: IBB=Western Balsam Bark Beetle | B8: 37966.621 | C8: 7698.3065 | D8: 1197.9404 | E8: 44.312527 | G8: =SUM(B8:F8) -> 46907.18 | H8: 6.8682467 | M8: =SUM(H8:L8) -> 6.8682467 | N8: =SUM(B8,H8) -> 37973.489 | O8: =SUM(C8,I8) -> 7698.3065 | P8: =SUM(D8,J8) -> 1197.9404 | Q8: =SUM(E8,K8) -> 44.312527 | R8: =SUM(F8,L8) -> 0 | S8: =SUM(N8:R8) -> 46914.049 | T8: 3509.5754 | U8: 1055.6113 | W8: 8.75 | Y8: =SUM(T8:X8) -> 4573.9367 | Z8: 208.23501 | AA8: 1055.8666 | AB8: 81.42703 | AC8: 101.23455 | AE8: =SUM(Z8:AD8) -> 1446.7632 | AF8: 155.21513 | AG8: 183.58492 | AH8: 110.52835 | AI8: 39.654112 | AK8: =SUM(AF8:AJ8) -> 488.98251 | AL8: =SUM(T8,Z8,AF8) -> 3873.0255 | AM8: =SUM(U8,AA8,AG8) -> 2295.0629 | AN8: =SUM(V8,AB8,AH8) -> 191.95538 | AO8: =SUM(W8,AC8,AI8) -> 149.63866 | AP8: =SUM(X8,AD8,AJ8) -> 0 | AQ8: =SUM(AL8:AP8) -> 6509.6825 | AW8: =SUM(AR8:AV8) -> 0 | BD8: =SUM(AX8:BC8) -> 0 | BJ8: =SUM(BE8:BI8) -> 0 | BK8: =SUM(AR8,AX8,BE8) -> 0 | BL8: =SUM(AS8,AY8,BF8) -> 0 | BM8: =SUM(AT8,AZ8,BG8) -> 0 | BN8: =SUM(AU8,BA8,BH8) -> 0 | BO8: =SUM(AV8,BB8,BI8) -> 0 | BP8: =SUM(BC8) -> 0 | BQ8: =SUM(BK8:BP8) -> 0 | BR8: 440.27403 | BU8: 9 | BW8: =SUM(BR8:BV8) -> 449.27403 | BX8: 26115.894 | BY8: 4722.7482 | BZ8: 182.56589 | CA8: 114.99415 | CC8: =SUM(BX8:CB8) -> 31136.202 | CD8: 40941.398 | CE8: 3407.2175 | CF8: 152.30599 | CG8: 323.22998 | CJ8: =SUM(CD8:CI8) -> 44824.151 | CK8: =SUM(BR8,BX8,CD8) -> 67497.566 | CL8: =SUM(BS8,BY8,CE8) -> 8129.9657 | CM8: =SUM(BT8,BZ8,CF8) -> 334.87188 | CN8: =SUM(BU8,CA8,CG8) -> 447.22413 | CO8: =SUM(BV8,CB8,CH8) -> 0 | CP8: =SUM(CI8) -> 0 | CQ8: =SUM(CK8:CP8) -> 76409.627 | CR8: 20147.571 | CS8: 355.01936 | CX8: =SUM(CR8:CW8) -> 20502.59 | CY8: 7617.7736 | CZ8: 1110.3354 | DA8: 5.2742039 | DB8: 0.25 | DE8: =SUM(CY8:DD8) -> 8733.6332 | DF8: 3757.5389 | DG8: 116.60368 | DH8: 4.0738429 | DI8: 0.25 | DL8: =SUM(DF8:DK8) -> 3878.4664 | DM8: 8697.9623 | DN8: 727.8755 | DO8: 31.928501 | DS8: =SUM(DM8:DR8) -> 9457.7663 | DT8: =SUM(CR8,CY8,DF8,DM8) -> 40220.846 | DU8: =SUM(CS8,CZ8,DG8,DN8) -> 2309.834 | DV8: =SUM(CT8,DA8,DH8,DO8) -> 41.276548 | DW8: =SUM(CU8,DB8,DI8,DP8) -> 0.5 | DX8: =SUM(CV8,DC8,DJ8,DQ8) -> 0 | DY8: =SUM(CW8,DD8,DK8,DR8) -> 0 | DZ8: =SUM(DT8:DY8) -> 42572.456 | EA8: 1991.4381 | EB8: 406.95535 | EC8: 55.996358 | ED8: 6 | EF8: =SUM(EA8:EE8) -> 2460.3898 | EG8: 249.94411 | EH8: 9.7448943 | EI8: 66.099693 | EJ8: 1 | EL8: =SUM(EG8:EK8) -> 326.78869 | EM8: 4405.1364 | EN8: 2775.6566 | EO8: 573.69161 | EP8: 8.25 | ER8: =SUM(EM8:EQ8) -> 7762.7347 | ES8: 5485.5591 | ET8: 4789.6711 | EU8: 770.34536 | EV8: 6.25 | EX8: =SUM(ES8:EW8) -> 11051.826 | EY8: 5967.6556 | EZ8: 3387.9107 | FA8: 794.23619 | FB8: 4.75 | FD8: =SUM(EY8:FC8) -> 10154.553 | FE8: 2844.1241 | FF8: 823.98734 | FH8: 6.5 | FJ8: =SUM(FE8:FI8) -> 3674.6115 | FK8: 2132.7431 | FL8: 315.34634 | FN8: 1 | FP8: =SUM(FK8:FO8) -> 2449.0895 | FQ8: =SUM(EA8,EG8,EM8,ES8,EY8,FE8,FK8) -> 23076.601 | FR8: =SUM(EB8,EH8,EN8,ET8,EZ8,FF8,FL8) -> 12509.272 | FS8: =SUM(EC8,EI8,EO8,EU8,FA8,FG8,FM8) -> 2260.3692 | FT8: =SUM(ED8,EJ8,EP8,EV8,FB8,FH8,FN8) -> 33.75 | FU8: =SUM(EE8,EK8,EQ8,EW8,FC8,FI8,FO8) -> 0 | FV8: =SUM(FQ8:FU8) -> 37879.992 | FW8: 197552.22 | FX8: 17233.856 | FY8: 317.43796 | FZ8: 2.75 | GB8: =SUM(FW8:GA8) -> 215106.26 | GC8: 31867.593 | GE8: 103.34362 | GF8: 21.25 | GH8: =SUM(GC8:GG8) -> 31992.187 | GI8: 8462.116 | GL8: 0.5 | GN8: =SUM(GI8:GM8) -> 8462.616 | GO8: 195987.59 | GP8: 6455.307 | GR8: 60.71525 | GT8: =SUM(GO8:GS8) -> 202503.61 | GU8: 141651 | GV8: 4634.3253 | GW8: 186.85166 | GX8: 92.460373 | GZ8: =SUM(GU8:GY8) -> 146564.64 | HA8: 354822.41 | HB8: 9009.7346 | HC8: 5350.9374 | HD8: 67.572208 | HF8: =SUM(HA8:HE8) -> 369250.65 | HG8: 203872.86 | HJ8: 13.25 | HL8: =SUM(HG8:HK8) -> 203886.11 | HR8: =SUM(HM8:HQ8) -> 0 | HS8: =SUM(FW8,GC8,GI8,GO8,GU8,HA8,HG8,HM8) -> 1134215.8 | HT8: =SUM(FX8,GD8,GJ8,GP8,GV8,HB8,HH8,HN8) -> 37333.223 | HU8: =SUM(HO8,HI8,HC8,GW8,GQ8,GK8,GE8,FY8) -> 5958.5706 | HV8: =SUM(HP8,HJ8,HD8,GX8,GR8,GL8,GF8,FZ8) -> 258.49783 | HW8: =SUM(HQ8,HK8,HE8,GY8,GS8,GM8,GG8,GA8) -> 0 | HX8: =SUM(HS8:HW8) -> 1177766.1 | HY8: 204660.2 | HZ8: 122915.61 | IA8: 5516.5143 | IB8: 260.25 | ID8: =SUM(HY8:IC8) -> 333352.57 | IE8: 74462.326 | IF8: 20863.593 | IG8: 1609.7076 | IH8: 162.18699 | IJ8: =SUM(IE8:II8) -> 97097.813 | IK8: 503166.93 | IL8: 59844.333 | IM8: 7724.442 | IN8: 288 | IP8: =SUM(IK8:IO8) -> 571023.71 | IQ8: =SUM(HY8,IE8,IK8) -> 782289.46 | IR8: =SUM(HZ8,IF8,IL8) -> 203623.53 | IS8: =SUM(IA8,IG8,IM8) -> 14850.664 | IT8: =SUM(IB8,IH8,IN8) -> 710.43699 | IU8: =SUM(IC8,II8,IO8) -> 0 | IV8: =SUM(IQ8:IU8) -> 1001474.1 | IW8: 100664.52 | IX8: 14898.082 | IY8: 451.73179 | IZ8: 89.360322 | JB8: =SUM(IW8:JA8) -> 116103.69 | JC8: 35149.001 | JD8: 3734.6915 | JF8: 208 | JH8: =SUM(JC8:JG8) -> 39091.692 | JI8: 6915.3614 | JJ8: 4820.6289 | JL8: 66.25 | JN8: =SUM(JI8:JM8) -> 11802.24 | JO8: =SUM(IW8,JC8,JI8) -> 142728.88 | JP8: =SUM(IX8,JD8,JJ8) -> 23453.403 | JQ8: =SUM(IY8,JE8,JK8) -> 451.73179 | JR8: =SUM(IZ8,JF8,JL8) -> 363.61032 | JS8: =SUM(JA8,JG8,JM8) -> 0 | JT8: =SUM(JO8:JS8) -> 166997.63 | JV8: =SUM(N8,AL8,BK8,CK8,DT8,FQ8,HS8,IQ8,JO8) -> 2231875.6 | JW8: =SUM(O8,AM8,BL8,CL8,DU8,FR8,HT8,IR8,JP8) -> 297352.6 | JX8: =SUM(P8,AN8,BM8,CM8,DV8,FS8,HU8,IS8,JQ8) -> 25287.38 | JY8: =SUM(Q8,AO8,BN8,CN8,DW8,FT8,HV8,IT8,JR8) -> 2007.9705 | JZ8: =SUM(R8,AP8,BO8,CO8,DX8,FU8,HW8,IU8,JS8) -> 0 | KA8: =SUM(BP8,CP8,DY8) -> 0 | KB8: =SUM(JV8:KA8) -> 2556523.6
A9: IBD=Douglas-fir Beetle | B9: 257.71192 | C9: 7.9707268 | E9: 2.5 | G9: =SUM(B9:F9) -> 268.18265 | K9: 1.75 | M9: =SUM(H9:L9) -> 1.75 | N9: =SUM(B9,H9) -> 257.71192 | O9: =SUM(C9,I9) -> 7.9707268 | P9: =SUM(D9,J9) -> 0 | Q9: =SUM(E9,K9) -> 4.25 | R9: =SUM(F9,L9) -> 0 | S9: =SUM(N9:R9) -> 269.93265 | T9: 19.6888 | U9: 125.68643 | V9: 446.09366 | W9: 40.141128 | Y9: =SUM(T9:X9) -> 631.61002 | AA9: 731.91968 | AB9: 73.714024 | AC9: 11.75 | AE9: =SUM(Z9:AD9) -> 817.3837 | AF9: 13.749345 | AI9: 9.5 | AK9: =SUM(AF9:AJ9) -> 23.249345 | AL9: =SUM(T9,Z9,AF9) -> 33.438145 | AM9: =SUM(U9,AA9,AG9) -> 857.60611 | AN9: =SUM(V9,AB9,AH9) -> 519.80769 | AO9: =SUM(W9,AC9,AI9) -> 61.391128 | AP9: =SUM(X9,AD9,AJ9) -> 0 | AQ9: =SUM(AL9:AP9) -> 1472.2431 | AR9: 218.8061 | AS9: 423.41365 | AT9: 97.119739 | AU9: 29 | AW9: =SUM(AR9:AV9) -> 768.3395 | BD9: =SUM(AX9:BC9) -> 0 | BE9: 5.3272956 | BG9: 44.652185 | BH9: 39.090866 | BJ9: =SUM(BE9:BI9) -> 89.070347 | BK9: =SUM(AR9,AX9,BE9) -> 224.1334 | BL9: =SUM(AS9,AY9,BF9) -> 423.41365 | BM9: =SUM(AT9,AZ9,BG9) -> 141.77192 | BN9: =SUM(AU9,BA9,BH9) -> 68.090866 | BO9: =SUM(AV9,BB9,BI9) -> 0 | BP9: =SUM(BC9) -> 0 | BQ9: =SUM(BK9:BP9) -> 857.40984 | BR9: 36952.6 | BS9: 2536.3986 | BT9: 188.75697 | BU9: 306.40278 | BW9: =SUM(BR9:BV9) -> 39984.159 | BX9: 72.858932 | BY9: 73.261968 | BZ9: 50.030643 | CA9: 178.72585 | CC9: =SUM(BX9:CB9) -> 374.87739 | CD9: 31188.043 | CE9: 9397.9555 | CF9: 687.03286 | CG9: 301.5 | CJ9: =SUM(CD9:CI9) -> 41574.532 | CK9: =SUM(BR9,BX9,CD9) -> 68213.502 | CL9: =SUM(BS9,BY9,CE9) -> 12007.616 | CM9: =SUM(BT9,BZ9,CF9) -> 925.82048 | CN9: =SUM(BU9,CA9,CG9) -> 786.62863 | CO9: =SUM(BV9,CB9,CH9) -> 0 | CP9: =SUM(CI9) -> 0 | CQ9: =SUM(CK9:CP9) -> 81933.568 | CR9: 43.623126 | CS9: 1478.5237 | CT9: 2315.3052 | CU9: 1240.8788 | CV9: 191.55946 | CX9: =SUM(CR9:CW9) -> 5269.8902 | CZ9: 58.667863 | DA9: 17.807353 | DB9: 84.788577 | DE9: =SUM(CY9:DD9) -> 161.26379 | DG9: 67.736341 | DH9: 69.371391 | DI9: 115.3029 | DJ9: 9.8035891 | DL9: =SUM(DF9:DK9) -> 262.21422 | DN9: 235.82456 | DO9: 291.14925 | DP9: 336.40369 | DQ9: 50.473391 | DS9: =SUM(DM9:DR9) -> 913.85089 | DT9: =SUM(CR9,CY9,DF9,DM9) -> 43.623126 | DU9: =SUM(CS9,CZ9,DG9,DN9) -> 1840.7524 | DV9: =SUM(CT9,DA9,DH9,DO9) -> 2693.6332 | DW9: =SUM(CU9,DB9,DI9,DP9) -> 1777.374 | DX9: =SUM(CV9,DC9,DJ9,DQ9) -> 251.83644 | DY9: =SUM(CW9,DD9,DK9,DR9) -> 0 | DZ9: =SUM(DT9:DY9) -> 6607.2191 | EA9: 1164.2273 | EB9: 2676.8658 | EC9: 1744.9335 | ED9: 204.5986 | EF9: =SUM(EA9:EE9) -> 5790.6252 | EG9: 109.04701 | EH9: 262.25983 | EI9: 196.41314 | EJ9: 108.04931 | EL9: =SUM(EG9:EK9) -> 675.76928 | EM9: 205.47692 | EN9: 453.50257 | EO9: 588.38922 | EP9: 161.24452 | ER9: =SUM(EM9:EQ9) -> 1408.6132 | ES9: 174.14777 | ET9: 76.700075 | EU9: 378.61082 | EV9: 79.441773 | EX9: =SUM(ES9:EW9) -> 708.90044 | EY9: 86.61067 | EZ9: 857.29074 | FA9: 609.46934 | FB9: 107.84411 | FD9: =SUM(EY9:FC9) -> 1661.2149 | FE9: 280.35966 | FF9: 843.70965 | FG9: 877.57332 | FH9: 69.346054 | FJ9: =SUM(FE9:FI9) -> 2070.9887 | FK9: 77.461554 | FL9: 158.9453 | FM9: 270.88918 | FN9: 8 | FP9: =SUM(FK9:FO9) -> 515.29603 | FQ9: =SUM(EA9,EG9,EM9,ES9,EY9,FE9,FK9) -> 2097.3309 | FR9: =SUM(EB9,EH9,EN9,ET9,EZ9,FF9,FL9) -> 5329.274 | FS9: =SUM(EC9,EI9,EO9,EU9,FA9,FG9,FM9) -> 4666.2785 | FT9: =SUM(ED9,EJ9,EP9,EV9,FB9,FH9,FN9) -> 738.52436 | FU9: =SUM(EE9,EK9,EQ9,EW9,FC9,FI9,FO9) -> 0 | FV9: =SUM(FQ9:FU9) -> 12831.408 | GB9: =SUM(FW9:GA9) -> 0 | GH9: =SUM(GC9:GG9) -> 0 | GN9: =SUM(GI9:GM9) -> 0 | GT9: =SUM(GO9:GS9) -> 0 | GU9: 147.57691 | GV9: 30.334741 | GX9: 0.25 | GZ9: =SUM(GU9:GY9) -> 178.16165 | HF9: =SUM(HA9:HE9) -> 0 | HL9: =SUM(HG9:HK9) -> 0 | HR9: =SUM(HM9:HQ9) -> 0 | HS9: =SUM(FW9,GC9,GI9,GO9,GU9,HA9,HG9,HM9) -> 147.57691 | HT9: =SUM(FX9,GD9,GJ9,GP9,GV9,HB9,HH9,HN9) -> 30.334741 | HU9: =SUM(HO9,HI9,HC9,GW9,GQ9,GK9,GE9,FY9) -> 0 | HV9: =SUM(HP9,HJ9,HD9,GX9,GR9,GL9,GF9,FZ9) -> 0.25 | HW9: =SUM(HQ9,HK9,HE9,GY9,GS9,GM9,GG9,GA9) -> 0 | HX9: =SUM(HS9:HW9) -> 178.16165 | ID9: =SUM(HY9:IC9) -> 0 | IH9: 4 | IJ9: =SUM(IE9:II9) -> 4 | IK9: 519.44258 | IL9: 1024.7026 | IM9: 246.84894 | IN9: 94.489861 | IP9: =SUM(IK9:IO9) -> 1885.484 | IQ9: =SUM(HY9,IE9,IK9) -> 519.44258 | IR9: =SUM(HZ9,IF9,IL9) -> 1024.7026 | IS9: =SUM(IA9,IG9,IM9) -> 246.84894 | IT9: =SUM(IB9,IH9,IN9) -> 98.489861 | IU9: =SUM(IC9,II9,IO9) -> 0 | IV9: =SUM(IQ9:IU9) -> 1889.484 | JB9: =SUM(IW9:JA9) -> 0 | JH9: =SUM(JC9:JG9) -> 0 | JN9: =SUM(JI9:JM9) -> 0 | JO9: =SUM(IW9,JC9,JI9) -> 0 | JP9: =SUM(IX9,JD9,JJ9) -> 0 | JQ9: =SUM(IY9,JE9,JK9) -> 0 | JR9: =SUM(IZ9,JF9,JL9) -> 0 | JS9: =SUM(JA9,JG9,JM9) -> 0 | JT9: =SUM(JO9:JS9) -> 0 | JV9: =SUM(N9,AL9,BK9,CK9,DT9,FQ9,HS9,IQ9,JO9) -> 71536.759 | JW9: =SUM(O9,AM9,BL9,CL9,DU9,FR9,HT9,IR9,JP9) -> 21521.67 | JX9: =SUM(P9,AN9,BM9,CM9,DV9,FS9,HU9,IS9,JQ9) -> 9194.1607 | JY9: =SUM(Q9,AO9,BN9,CN9,DW9,FT9,HV9,IT9,JR9) -> 3534.9988 | JZ9: =SUM(R9,AP9,BO9,CO9,DX9,FU9,HW9,IU9,JS9) -> 251.83644 | KA9: =SUM(BP9,CP9,DY9) -> 0 | KB9: =SUM(JV9:KA9) -> 106039.43
A10: IBF = Fir engraver Beetle | G10: =SUM(B10:F10) -> 0 | M10: =SUM(H10:L10) -> 0 | N10: =SUM(B10,H10) -> 0 | O10: =SUM(C10,I10) -> 0 | P10: =SUM(D10,J10) -> 0 | Q10: =SUM(E10,K10) -> 0 | R10: =SUM(F10,L10) -> 0 | S10: =SUM(N10:R10) -> 0 | Y10: =SUM(T10:X10) -> 0 | AE10: =SUM(Z10:AD10) -> 0 | AK10: =SUM(AF10:AJ10) -> 0 | AL10: =SUM(T10,Z10,AF10) -> 0 | AM10: =SUM(U10,AA10,AG10) -> 0 | AN10: =SUM(V10,AB10,AH10) -> 0 | AO10: =SUM(W10,AC10,AI10) -> 0 | AP10: =SUM(X10,AD10,AJ10) -> 0 | AQ10: =SUM(AL10:AP10) -> 0 | AW10: =SUM(AR10:AV10) -> 0 | BD10: =SUM(AX10:BC10) -> 0 | BJ10: =SUM(BE10:BI10) -> 0 | BK10: =SUM(AR10,AX10,BE10) -> 0 | BL10: =SUM(AS10,AY10,BF10) -> 0 | BM10: =SUM(AT10,AZ10,BG10) -> 0 | BN10: =SUM(AU10,BA10,BH10) -> 0 | BO10: =SUM(AV10,BB10,BI10) -> 0 | BP10: =SUM(BC10) -> 0 | BQ10: =SUM(BK10:BP10) -> 0 | BW10: =SUM(BR10:BV10) -> 0 | CC10: =SUM(BX10:CB10) -> 0 | CJ10: =SUM(CD10:CI10) -> 0 | CK10: =SUM(BR10,BX10,CD10) -> 0 | CL10: =SUM(BS10,BY10,CE10) -> 0 | CM10: =SUM(BT10,BZ10,CF10) -> 0 | CN10: =SUM(BU10,CA10,CG10) -> 0 | CO10: =SUM(BV10,CB10,CH10) -> 0 | CP10: =SUM(CI10) -> 0 | CQ10: =SUM(CK10:CP10) -> 0 | CX10: =SUM(CR10:CW10) -> 0 | DE10: =SUM(CY10:DD10) -> 0 | DL10: =SUM(DF10:DK10) -> 0 | DS10: =SUM(DM10:DR10) -> 0 | DT10: =SUM(CR10,CY10,DF10,DM10) -> 0 | DU10: =SUM(CS10,CZ10,DG10,DN10) -> 0 | DV10: =SUM(CT10,DA10,DH10,DO10) -> 0 | DW10: =SUM(CU10,DB10,DI10,DP10) -> 0 | DX10: =SUM(CV10,DC10,DJ10,DQ10) -> 0 | DY10: =SUM(CW10,DD10,DK10,DR10) -> 0 | DZ10: =SUM(DT10:DY10) -> 0 | EF10: =SUM(EA10:EE10) -> 0 | EL10: =SUM(EG10:EK10) -> 0 | ER10: =SUM(EM10:EQ10) -> 0 | EX10: =SUM(ES10:EW10) -> 0 | FD10: =SUM(EY10:FC10) -> 0 | FJ10: =SUM(FE10:FI10) -> 0 | FP10: =SUM(FK10:FO10) -> 0 | FQ10: =SUM(EA10,EG10,EM10,ES10,EY10,FE10,FK10) -> 0 | FR10: =SUM(EB10,EH10,EN10,ET10,EZ10,FF10,FL10) -> 0 | FS10: =SUM(EC10,EI10,EO10,EU10,FA10,FG10,FM10) -> 0 | FT10: =SUM(ED10,EJ10,EP10,EV10,FB10,FH10,FN10) -> 0 | FU10: =SUM(EE10,EK10,EQ10,EW10,FC10,FI10,FO10) -> 0 | FV10: =SUM(FQ10:FU10) -> 0 | GB10: =SUM(FW10:GA10) -> 0 | GH10: =SUM(GC10:GG10) -> 0 | GN10: =SUM(GI10:GM10) -> 0 | GT10: =SUM(GO10:GS10) -> 0 | GZ10: =SUM(GU10:GY10) -> 0 | HF10: =SUM(HA10:HE10) -> 0 | HL10: =SUM(HG10:HK10) -> 0 | HR10: =SUM(HM10:HQ10) -> 0 | HS10: =SUM(FW10,GC10,GI10,GO10,GU10,HA10,HG10,HM10) -> 0 | HT10: =SUM(FX10,GD10,GJ10,GP10,GV10,HB10,HH10,HN10) -> 0 | HU10: =SUM(HO10,HI10,HC10,GW10,GQ10,GK10,GE10,FY10) -> 0 | HV10: =SUM(HP10,HJ10,HD10,GX10,GR10,GL10,GF10,FZ10) -> 0 | HW10: =SUM(HQ10,HK10,HE10,GY10,GS10,GM10,GG10,GA10) -> 0 | HX10: =SUM(HS10:HW10) -> 0 | ID10: =SUM(HY10:IC10) -> 0 | IJ10: =SUM(IE10:II10) -> 0 | IP10: =SUM(IK10:IO10) -> 0 | IQ10: =SUM(HY10,IE10,IK10) -> 0 | IR10: =SUM(HZ10,IF10,IL10) -> 0 | IS10: =SUM(IA10,IG10,IM10) -> 0 | IT10: =SUM(IB10,IH10,IN10) -> 0 | IU10: =SUM(IC10,II10,IO10) -> 0 | IV10: =SUM(IQ10:IU10) -> 0 | JB10: =SUM(IW10:JA10) -> 0 | JH10: =SUM(JC10:JG10) -> 0 | JN10: =SUM(JI10:JM10) -> 0 | JO10: =SUM(IW10,JC10,JI10) -> 0 | JP10: =SUM(IX10,JD10,JJ10) -> 0 | JQ10: =SUM(IY10,JE10,JK10) -> 0 | JR10: =SUM(IZ10,JF10,JL10) -> 0 | JS10: =SUM(JA10,JG10,JM10) -> 0 | JT10: =SUM(JO10:JS10) -> 0 | JV10: =SUM(N10,AL10,BK10,CK10,DT10,FQ10,HS10,IQ10,JO10) -> 0 | JW10: =SUM(O10,AM10,BL10,CL10,DU10,FR10,HT10,IR10,JP10) -> 0 | JX10: =SUM(P10,AN10,BM10,CM10,DV10,FS10,HU10,IS10,JQ10) -> 0 | JY10: =SUM(Q10,AO10,BN10,CN10,DW10,FT10,HV10,IT10,JR10) -> 0 | JZ10: =SUM(R10,AP10,BO10,CO10,DX10,FU10,HW10,IU10,JS10) -> 0 | KA10: =SUM(BP10,CP10,DY10) -> 0 | KB10: =SUM(JV10:KA10) -> 0
A11: IBP = Twig Beetle | G11: =SUM(B11:F11) -> 0 | M11: =SUM(H11:L11) -> 0 | N11: =SUM(B11,H11) -> 0 | O11: =SUM(C11,I11) -> 0 | P11: =SUM(D11,J11) -> 0 | Q11: =SUM(E11,K11) -> 0 | R11: =SUM(F11,L11) -> 0 | S11: =SUM(N11:R11) -> 0 | Y11: =SUM(T11:X11) -> 0 | AE11: =SUM(Z11:AD11) -> 0 | AK11: =SUM(AF11:AJ11) -> 0 | AL11: =SUM(T11,Z11,AF11) -> 0 | AM11: =SUM(U11,AA11,AG11) -> 0 | AN11: =SUM(V11,AB11,AH11) -> 0 | AO11: =SUM(W11,AC11,AI11) -> 0 | AP11: =SUM(X11,AD11,AJ11) -> 0 | AQ11: =SUM(AL11:AP11) -> 0 | AW11: =SUM(AR11:AV11) -> 0 | BD11: =SUM(AX11:BC11) -> 0 | BJ11: =SUM(BE11:BI11) -> 0 | BK11: =SUM(AR11,AX11,BE11) -> 0 | BL11: =SUM(AS11,AY11,BF11) -> 0 | BM11: =SUM(AT11,AZ11,BG11) -> 0 | BN11: =SUM(AU11,BA11,BH11) -> 0 | BO11: =SUM(AV11,BB11,BI11) -> 0 | BP11: =SUM(BC11) -> 0 | BQ11: =SUM(BK11:BP11) -> 0 | BW11: =SUM(BR11:BV11) -> 0 | CC11: =SUM(BX11:CB11) -> 0 | CJ11: =SUM(CD11:CI11) -> 0 | CK11: =SUM(BR11,BX11,CD11) -> 0 | CL11: =SUM(BS11,BY11,CE11) -> 0 | CM11: =SUM(BT11,BZ11,CF11) -> 0 | CN11: =SUM(BU11,CA11,CG11) -> 0 | CO11: =SUM(BV11,CB11,CH11) -> 0 | CP11: =SUM(CI11) -> 0 | CQ11: =SUM(CK11:CP11) -> 0 | CX11: =SUM(CR11:CW11) -> 0 | DE11: =SUM(CY11:DD11) -> 0 | DL11: =SUM(DF11:DK11) -> 0 | DS11: =SUM(DM11:DR11) -> 0 | DT11: =SUM(CR11,CY11,DF11,DM11) -> 0 | DU11: =SUM(CS11,CZ11,DG11,DN11) -> 0 | DV11: =SUM(CT11,DA11,DH11,DO11) -> 0 | DW11: =SUM(CU11,DB11,DI11,DP11) -> 0 | DX11: =SUM(CV11,DC11,DJ11,DQ11) -> 0 | DY11: =SUM(CW11,DD11,DK11,DR11) -> 0 | DZ11: =SUM(DT11:DY11) -> 0 | EF11: =SUM(EA11:EE11) -> 0 | EL11: =SUM(EG11:EK11) -> 0 | ER11: =SUM(EM11:EQ11) -> 0 | EX11: =SUM(ES11:EW11) -> 0 | FD11: =SUM(EY11:FC11) -> 0 | FJ11: =SUM(FE11:FI11) -> 0 | FP11: =SUM(FK11:FO11) -> 0 | FQ11: =SUM(EA11,EG11,EM11,ES11,EY11,FE11,FK11) -> 0 | FR11: =SUM(EB11,EH11,EN11,ET11,EZ11,FF11,FL11) -> 0 | FS11: =SUM(EC11,EI11,EO11,EU11,FA11,FG11,FM11) -> 0 | FT11: =SUM(ED11,EJ11,EP11,EV11,FB11,FH11,FN11) -> 0 | FU11: =SUM(EE11,EK11,EQ11,EW11,FC11,FI11,FO11) -> 0 | FV11: =SUM(FQ11:FU11) -> 0 | GB11: =SUM(FW11:GA11) -> 0 | GH11: =SUM(GC11:GG11) -> 0 | GN11: =SUM(GI11:GM11) -> 0 | GT11: =SUM(GO11:GS11) -> 0 | GZ11: =SUM(GU11:GY11) -> 0 | HF11: =SUM(HA11:HE11) -> 0 | HL11: =SUM(HG11:HK11) -> 0 | HR11: =SUM(HM11:HQ11) -> 0 | HS11: =SUM(FW11,GC11,GI11,GO11,GU11,HA11,HG11,HM11) -> 0 | HT11: =SUM(FX11,GD11,GJ11,GP11,GV11,HB11,HH11,HN11) -> 0 | HU11: =SUM(HO11,HI11,HC11,GW11,GQ11,GK11,GE11,FY11) -> 0 | HV11: =SUM(HP11,HJ11,HD11,GX11,GR11,GL11,GF11,FZ11) -> 0 | HW11: =SUM(HQ11,HK11,HE11,GY11,GS11,GM11,GG11,GA11) -> 0 | HX11: =SUM(HS11:HW11) -> 0 | ID11: =SUM(HY11:IC11) -> 0 | IJ11: =SUM(IE11:II11) -> 0 | IP11: =SUM(IK11:IO11) -> 0 | IQ11: =SUM(HY11,IE11,IK11) -> 0 | IR11: =SUM(HZ11,IF11,IL11) -> 0 | IS11: =SUM(IA11,IG11,IM11) -> 0 | IT11: =SUM(IB11,IH11,IN11) -> 0 | IU11: =SUM(IC11,II11,IO11) -> 0 | IV11: =SUM(IQ11:IU11) -> 0 | JB11: =SUM(IW11:JA11) -> 0 | JH11: =SUM(JC11:JG11) -> 0 | JN11: =SUM(JI11:JM11) -> 0 | JO11: =SUM(IW11,JC11,JI11) -> 0 | JP11: =SUM(IX11,JD11,JJ11) -> 0 | JQ11: =SUM(IY11,JE11,JK11) -> 0 | JR11: =SUM(IZ11,JF11,JL11) -> 0 | JS11: =SUM(JA11,JG11,JM11) -> 0 | JT11: =SUM(JO11:JS11) -> 0 | JV11: =SUM(N11,AL11,BK11,CK11,DT11,FQ11,HS11,IQ11,JO11) -> 0 | JW11: =SUM(O11,AM11,BL11,CL11,DU11,FR11,HT11,IR11,JP11) -> 0 | JX11: =SUM(P11,AN11,BM11,CM11,DV11,FS11,HU11,IS11,JQ11) -> 0 | JY11: =SUM(Q11,AO11,BN11,CN11,DW11,FT11,HV11,IT11,JR11) -> 0 | JZ11: =SUM(R11,AP11,BO11,CO11,DX11,FU11,HW11,IU11,JS11) -> 0 | KA11: =SUM(BP11,CP11,DY11) -> 0 | KB11: =SUM(JV11:KA11) -> 0
A12: IBI=Engraver Beetle (Ips species) | G12: =SUM(B12:F12) -> 0 | M12: =SUM(H12:L12) -> 0 | N12: =SUM(B12,H12) -> 0 | O12: =SUM(C12,I12) -> 0 | P12: =SUM(D12,J12) -> 0 | Q12: =SUM(E12,K12) -> 0 | R12: =SUM(F12,L12) -> 0 | S12: =SUM(N12:R12) -> 0 | Y12: =SUM(T12:X12) -> 0 | AE12: =SUM(Z12:AD12) -> 0 | AK12: =SUM(AF12:AJ12) -> 0 | AL12: =SUM(T12,Z12,AF12) -> 0 | AM12: =SUM(U12,AA12,AG12) -> 0 | AN12: =SUM(V12,AB12,AH12) -> 0 | AO12: =SUM(W12,AC12,AI12) -> 0 | AP12: =SUM(X12,AD12,AJ12) -> 0 | AQ12: =SUM(AL12:AP12) -> 0 | AW12: =SUM(AR12:AV12) -> 0 | BD12: =SUM(AX12:BC12) -> 0 | BJ12: =SUM(BE12:BI12) -> 0 | BK12: =SUM(AR12,AX12,BE12) -> 0 | BL12: =SUM(AS12,AY12,BF12) -> 0 | BM12: =SUM(AT12,AZ12,BG12) -> 0 | BN12: =SUM(AU12,BA12,BH12) -> 0 | BO12: =SUM(AV12,BB12,BI12) -> 0 | BP12: =SUM(BC12) -> 0 | BQ12: =SUM(BK12:BP12) -> 0 | BW12: =SUM(BR12:BV12) -> 0 | CC12: =SUM(BX12:CB12) -> 0 | CJ12: =SUM(CD12:CI12) -> 0 | CK12: =SUM(BR12,BX12,CD12) -> 0 | CL12: =SUM(BS12,BY12,CE12) -> 0 | CM12: =SUM(BT12,BZ12,CF12) -> 0 | CN12: =SUM(BU12,CA12,CG12) -> 0 | CO12: =SUM(BV12,CB12,CH12) -> 0 | CP12: =SUM(CI12) -> 0 | CQ12: =SUM(CK12:CP12) -> 0 | CX12: =SUM(CR12:CW12) -> 0 | DE12: =SUM(CY12:DD12) -> 0 | DL12: =SUM(DF12:DK12) -> 0 | DS12: =SUM(DM12:DR12) -> 0 | DT12: =SUM(CR12,CY12,DF12,DM12) -> 0 | DU12: =SUM(CS12,CZ12,DG12,DN12) -> 0 | DV12: =SUM(CT12,DA12,DH12,DO12) -> 0 | DW12: =SUM(CU12,DB12,DI12,DP12) -> 0 | DX12: =SUM(CV12,DC12,DJ12,DQ12) -> 0 | DY12: =SUM(CW12,DD12,DK12,DR12) -> 0 | DZ12: =SUM(DT12:DY12) -> 0 | EF12: =SUM(EA12:EE12) -> 0 | EL12: =SUM(EG12:EK12) -> 0 | ER12: =SUM(EM12:EQ12) -> 0 | EX12: =SUM(ES12:EW12) -> 0 | FD12: =SUM(EY12:FC12) -> 0 | FJ12: =SUM(FE12:FI12) -> 0 | FP12: =SUM(FK12:FO12) -> 0 | FQ12: =SUM(EA12,EG12,EM12,ES12,EY12,FE12,FK12) -> 0 | FR12: =SUM(EB12,EH12,EN12,ET12,EZ12,FF12,FL12) -> 0 | FS12: =SUM(EC12,EI12,EO12,EU12,FA12,FG12,FM12) -> 0 | FT12: =SUM(ED12,EJ12,EP12,EV12,FB12,FH12,FN12) -> 0 | FU12: =SUM(EE12,EK12,EQ12,EW12,FC12,FI12,FO12) -> 0 | FV12: =SUM(FQ12:FU12) -> 0 | GB12: =SUM(FW12:GA12) -> 0 | GH12: =SUM(GC12:GG12) -> 0 | GN12: =SUM(GI12:GM12) -> 0 | GT12: =SUM(GO12:GS12) -> 0 | GZ12: =SUM(GU12:GY12) -> 0 | HF12: =SUM(HA12:HE12) -> 0 | HL12: =SUM(HG12:HK12) -> 0 | HR12: =SUM(HM12:HQ12) -> 0 | HS12: =SUM(FW12,GC12,GI12,GO12,GU12,HA12,HG12,HM12) -> 0 | HT12: =SUM(FX12,GD12,GJ12,GP12,GV12,HB12,HH12,HN12) -> 0 | HU12: =SUM(HO12,HI12,HC12,GW12,GQ12,GK12,GE12,FY12) -> 0 | HV12: =SUM(HP12,HJ12,HD12,GX12,GR12,GL12,GF12,FZ12) -> 0 | HW12: =SUM(HQ12,HK12,HE12,GY12,GS12,GM12,GG12,GA12) -> 0 | HX12: =SUM(HS12:HW12) -> 0 | ID12: =SUM(HY12:IC12) -> 0 | IJ12: =SUM(IE12:II12) -> 0 | IP12: =SUM(IK12:IO12) -> 0 | IQ12: =SUM(HY12,IE12,IK12) -> 0 | IR12: =SUM(HZ12,IF12,IL12) -> 0 | IS12: =SUM(IA12,IG12,IM12) -> 0 | IT12: =SUM(IB12,IH12,IN12) -> 0 | IU12: =SUM(IC12,II12,IO12) -> 0 | IV12: =SUM(IQ12:IU12) -> 0 | JB12: =SUM(IW12:JA12) -> 0 | JH12: =SUM(JC12:JG12) -> 0 | JN12: =SUM(JI12:JM12) -> 0 | JO12: =SUM(IW12,JC12,JI12) -> 0 | JP12: =SUM(IX12,JD12,JJ12) -> 0 | JQ12: =SUM(IY12,JE12,JK12) -> 0 | JR12: =SUM(IZ12,JF12,JL12) -> 0 | JS12: =SUM(JA12,JG12,JM12) -> 0 | JT12: =SUM(JO12:JS12) -> 0 | JV12: =SUM(N12,AL12,BK12,CK12,DT12,FQ12,HS12,IQ12,JO12) -> 0 | JW12: =SUM(O12,AM12,BL12,CL12,DU12,FR12,HT12,IR12,JP12) -> 0 | JX12: =SUM(P12,AN12,BM12,CM12,DV12,FS12,HU12,IS12,JQ12) -> 0 | JY12: =SUM(Q12,AO12,BN12,CN12,DW12,FT12,HV12,IT12,JR12) -> 0 | JZ12: =SUM(R12,AP12,BO12,CO12,DX12,FU12,HW12,IU12,JS12) -> 0 | KA12: =SUM(BP12,CP12,DY12) -> 0 | KB12: =SUM(JV12:KA12) -> 0
A13: IBW=Western Pine Beetle | G13: =SUM(B13:F13) -> 0 | M13: =SUM(H13:L13) -> 0 | N13: =SUM(B13,H13) -> 0 | O13: =SUM(C13,I13) -> 0 | P13: =SUM(D13,J13) -> 0 | Q13: =SUM(E13,K13) -> 0 | R13: =SUM(F13,L13) -> 0 | S13: =SUM(N13:R13) -> 0 | Y13: =SUM(T13:X13) -> 0 | AE13: =SUM(Z13:AD13) -> 0 | AK13: =SUM(AF13:AJ13) -> 0 | AL13: =SUM(T13,Z13,AF13) -> 0 | AM13: =SUM(U13,AA13,AG13) -> 0 | AN13: =SUM(V13,AB13,AH13) -> 0 | AO13: =SUM(W13,AC13,AI13) -> 0 | AP13: =SUM(X13,AD13,AJ13) -> 0 | AQ13: =SUM(AL13:AP13) -> 0 | AW13: =SUM(AR13:AV13) -> 0 | BD13: =SUM(AX13:BC13) -> 0 | BJ13: =SUM(BE13:BI13) -> 0 | BK13: =SUM(AR13,AX13,BE13) -> 0 | BL13: =SUM(AS13,AY13,BF13) -> 0 | BM13: =SUM(AT13,AZ13,BG13) -> 0 | BN13: =SUM(AU13,BA13,BH13) -> 0 | BO13: =SUM(AV13,BB13,BI13) -> 0 | BP13: =SUM(BC13) -> 0 | BQ13: =SUM(BK13:BP13) -> 0 | BW13: =SUM(BR13:BV13) -> 0 | CC13: =SUM(BX13:CB13) -> 0 | CJ13: =SUM(CD13:CI13) -> 0 | CK13: =SUM(BR13,BX13,CD13) -> 0 | CL13: =SUM(BS13,BY13,CE13) -> 0 | CM13: =SUM(BT13,BZ13,CF13) -> 0 | CN13: =SUM(BU13,CA13,CG13) -> 0 | CO13: =SUM(BV13,CB13,CH13) -> 0 | CP13: =SUM(CI13) -> 0 | CQ13: =SUM(CK13:CP13) -> 0 | CX13: =SUM(CR13:CW13) -> 0 | DE13: =SUM(CY13:DD13) -> 0 | DI13: 0.25 | DL13: =SUM(DF13:DK13) -> 0.25 | DP13: 0.25 | DS13: =SUM(DM13:DR13) -> 0.25 | DT13: =SUM(CR13,CY13,DF13,DM13) -> 0 | DU13: =SUM(CS13,CZ13,DG13,DN13) -> 0 | DV13: =SUM(CT13,DA13,DH13,DO13) -> 0 | DW13: =SUM(CU13,DB13,DI13,DP13) -> 0.5 | DX13: =SUM(CV13,DC13,DJ13,DQ13) -> 0 | DY13: =SUM(CW13,DD13,DK13,DR13) -> 0 | DZ13: =SUM(DT13:DY13) -> 0.5 | EF13: =SUM(EA13:EE13) -> 0 | EL13: =SUM(EG13:EK13) -> 0 | ER13: =SUM(EM13:EQ13) -> 0 | EX13: =SUM(ES13:EW13) -> 0 | FD13: =SUM(EY13:FC13) -> 0 | FJ13: =SUM(FE13:FI13) -> 0 | FP13: =SUM(FK13:FO13) -> 0 | FQ13: =SUM(EA13,EG13,EM13,ES13,EY13,FE13,FK13) -> 0 | FR13: =SUM(EB13,EH13,EN13,ET13,EZ13,FF13,FL13) -> 0 | FS13: =SUM(EC13,EI13,EO13,EU13,FA13,FG13,FM13) -> 0 | FT13: =SUM(ED13,EJ13,EP13,EV13,FB13,FH13,FN13) -> 0 | FU13: =SUM(EE13,EK13,EQ13,EW13,FC13,FI13,FO13) -> 0 | FV13: =SUM(FQ13:FU13) -> 0 | GB13: =SUM(FW13:GA13) -> 0 | GH13: =SUM(GC13:GG13) -> 0 | GN13: =SUM(GI13:GM13) -> 0 | GT13: =SUM(GO13:GS13) -> 0 | GZ13: =SUM(GU13:GY13) -> 0 | HF13: =SUM(HA13:HE13) -> 0 | HL13: =SUM(HG13:HK13) -> 0 | HR13: =SUM(HM13:HQ13) -> 0 | HS13: =SUM(FW13,GC13,GI13,GO13,GU13,HA13,HG13,HM13) -> 0 | HT13: =SUM(FX13,GD13,GJ13,GP13,GV13,HB13,HH13,HN13) -> 0 | HU13: =SUM(HO13,HI13,HC13,GW13,GQ13,GK13,GE13,FY13) -> 0 | HV13: =SUM(HP13,HJ13,HD13,GX13,GR13,GL13,GF13,FZ13) -> 0 | HW13: =SUM(HQ13,HK13,HE13,GY13,GS13,GM13,GG13,GA13) -> 0 | HX13: =SUM(HS13:HW13) -> 0 | ID13: =SUM(HY13:IC13) -> 0 | IJ13: =SUM(IE13:II13) -> 0 | IP13: =SUM(IK13:IO13) -> 0 | IQ13: =SUM(HY13,IE13,IK13) -> 0 | IR13: =SUM(HZ13,IF13,IL13) -> 0 | IS13: =SUM(IA13,IG13,IM13) -> 0 | IT13: =SUM(IB13,IH13,IN13) -> 0 | IU13: =SUM(IC13,II13,IO13) -> 0 | IV13: =SUM(IQ13:IU13) -> 0 | JB13: =SUM(IW13:JA13) -> 0 | JH13: =SUM(JC13:JG13) -> 0 | JN13: =SUM(JI13:JM13) -> 0 | JO13: =SUM(IW13,JC13,JI13) -> 0 | JP13: =SUM(IX13,JD13,JJ13) -> 0 | JQ13: =SUM(IY13,JE13,JK13) -> 0 | JR13: =SUM(IZ13,JF13,JL13) -> 0 | JS13: =SUM(JA13,JG13,JM13) -> 0 | JT13: =SUM(JO13:JS13) -> 0 | JV13: =SUM(N13,AL13,BK13,CK13,DT13,FQ13,HS13,IQ13,JO13) -> 0 | JW13: =SUM(O13,AM13,BL13,CL13,DU13,FR13,HT13,IR13,JP13) -> 0 | JX13: =SUM(P13,AN13,BM13,CM13,DV13,FS13,HU13,IS13,JQ13) -> 0 | JY13: =SUM(Q13,AO13,BN13,CN13,DW13,FT13,HV13,IT13,JR13) -> 0.5 | JZ13: =SUM(R13,AP13,BO13,CO13,DX13,FU13,HW13,IU13,JS13) -> 0 | KA13: =SUM(BP13,CP13,DY13) -> 0 | KB13: =SUM(JV13:KA13) -> 0.5
A14: IBL=Lodgepole Pine Beetle | G14: =SUM(B14:F14) -> 0 | M14: =SUM(H14:L14) -> 0 | N14: =SUM(B14,H14) -> 0 | O14: =SUM(C14,I14) -> 0 | P14: =SUM(D14,J14) -> 0 | Q14: =SUM(E14,K14) -> 0 | R14: =SUM(F14,L14) -> 0 | S14: =SUM(N14:R14) -> 0 | Y14: =SUM(T14:X14) -> 0 | AE14: =SUM(Z14:AD14) -> 0 | AK14: =SUM(AF14:AJ14) -> 0 | AL14: =SUM(T14,Z14,AF14) -> 0 | AM14: =SUM(U14,AA14,AG14) -> 0 | AN14: =SUM(V14,AB14,AH14) -> 0 | AO14: =SUM(W14,AC14,AI14) -> 0 | AP14: =SUM(X14,AD14,AJ14) -> 0 | AQ14: =SUM(AL14:AP14) -> 0 | AW14: =SUM(AR14:AV14) -> 0 | BD14: =SUM(AX14:BC14) -> 0 | BJ14: =SUM(BE14:BI14) -> 0 | BK14: =SUM(AR14,AX14,BE14) -> 0 | BL14: =SUM(AS14,AY14,BF14) -> 0 | BM14: =SUM(AT14,AZ14,BG14) -> 0 | BN14: =SUM(AU14,BA14,BH14) -> 0 | BO14: =SUM(AV14,BB14,BI14) -> 0 | BP14: =SUM(BC14) -> 0 | BQ14: =SUM(BK14:BP14) -> 0 | BW14: =SUM(BR14:BV14) -> 0 | CC14: =SUM(BX14:CB14) -> 0 | CJ14: =SUM(CD14:CI14) -> 0 | CK14: =SUM(BR14,BX14,CD14) -> 0 | CL14: =SUM(BS14,BY14,CE14) -> 0 | CM14: =SUM(BT14,BZ14,CF14) -> 0 | CN14: =SUM(BU14,CA14,CG14) -> 0 | CO14: =SUM(BV14,CB14,CH14) -> 0 | CP14: =SUM(CI14) -> 0 | CQ14: =SUM(CK14:CP14) -> 0 | CX14: =SUM(CR14:CW14) -> 0 | DE14: =SUM(CY14:DD14) -> 0 | DL14: =SUM(DF14:DK14) -> 0 | DS14: =SUM(DM14:DR14) -> 0 | DT14: =SUM(CR14,CY14,DF14,DM14) -> 0 | DU14: =SUM(CS14,CZ14,DG14,DN14) -> 0 | DV14: =SUM(CT14,DA14,DH14,DO14) -> 0 | DW14: =SUM(CU14,DB14,DI14,DP14) -> 0 | DX14: =SUM(CV14,DC14,DJ14,DQ14) -> 0 | DY14: =SUM(CW14,DD14,DK14,DR14) -> 0 | DZ14: =SUM(DT14:DY14) -> 0 | EF14: =SUM(EA14:EE14) -> 0 | EL14: =SUM(EG14:EK14) -> 0 | ER14: =SUM(EM14:EQ14) -> 0 | EX14: =SUM(ES14:EW14) -> 0 | FD14: =SUM(EY14:FC14) -> 0 | FJ14: =SUM(FE14:FI14) -> 0 | FP14: =SUM(FK14:FO14) -> 0 | FQ14: =SUM(EA14,EG14,EM14,ES14,EY14,FE14,FK14) -> 0 | FR14: =SUM(EB14,EH14,EN14,ET14,EZ14,FF14,FL14) -> 0 | FS14: =SUM(EC14,EI14,EO14,EU14,FA14,FG14,FM14) -> 0 | FT14: =SUM(ED14,EJ14,EP14,EV14,FB14,FH14,FN14) -> 0 | FU14: =SUM(EE14,EK14,EQ14,EW14,FC14,FI14,FO14) -> 0 | FV14: =SUM(FQ14:FU14) -> 0 | GB14: =SUM(FW14:GA14) -> 0 | GH14: =SUM(GC14:GG14) -> 0 | GN14: =SUM(GI14:GM14) -> 0 | GT14: =SUM(GO14:GS14) -> 0 | GZ14: =SUM(GU14:GY14) -> 0 | HF14: =SUM(HA14:HE14) -> 0 | HL14: =SUM(HG14:HK14) -> 0 | HR14: =SUM(HM14:HQ14) -> 0 | HS14: =SUM(FW14,GC14,GI14,GO14,GU14,HA14,HG14,HM14) -> 0 | HT14: =SUM(FX14,GD14,GJ14,GP14,GV14,HB14,HH14,HN14) -> 0 | HU14: =SUM(HO14,HI14,HC14,GW14,GQ14,GK14,GE14,FY14) -> 0 | HV14: =SUM(HP14,HJ14,HD14,GX14,GR14,GL14,GF14,FZ14) -> 0 | HW14: =SUM(HQ14,HK14,HE14,GY14,GS14,GM14,GG14,GA14) -> 0 | HX14: =SUM(HS14:HW14) -> 0 | ID14: =SUM(HY14:IC14) -> 0 | IJ14: =SUM(IE14:II14) -> 0 | IP14: =SUM(IK14:IO14) -> 0 | IQ14: =SUM(HY14,IE14,IK14) -> 0 | IR14: =SUM(HZ14,IF14,IL14) -> 0 | IS14: =SUM(IA14,IG14,IM14) -> 0 | IT14: =SUM(IB14,IH14,IN14) -> 0 | IU14: =SUM(IC14,II14,IO14) -> 0 | IV14: =SUM(IQ14:IU14) -> 0 | JB14: =SUM(IW14:JA14) -> 0 | JH14: =SUM(JC14:JG14) -> 0 | JN14: =SUM(JI14:JM14) -> 0 | JO14: =SUM(IW14,JC14,JI14) -> 0 | JP14: =SUM(IX14,JD14,JJ14) -> 0 | JQ14: =SUM(IY14,JE14,JK14) -> 0 | JR14: =SUM(IZ14,JF14,JL14) -> 0 | JS14: =SUM(JA14,JG14,JM14) -> 0 | JT14: =SUM(JO14:JS14) -> 0 | JV14: =SUM(N14,AL14,BK14,CK14,DT14,FQ14,HS14,IQ14,JO14) -> 0 | JW14: =SUM(O14,AM14,BL14,CL14,DU14,FR14,HT14,IR14,JP14) -> 0 | JX14: =SUM(P14,AN14,BM14,CM14,DV14,FS14,HU14,IS14,JQ14) -> 0 | JY14: =SUM(Q14,AO14,BN14,CN14,DW14,FT14,HV14,IT14,JR14) -> 0 | JZ14: =SUM(R14,AP14,BO14,CO14,DX14,FU14,HW14,IU14,JS14) -> 0 | KA14: =SUM(BP14,CP14,DY14) -> 0 | KB14: =SUM(JV14:KA14) -> 0
A15: IBT=Red Turpentine Beetle | G15: =SUM(B15:F15) -> 0 | M15: =SUM(H15:L15) -> 0 | N15: =SUM(B15,H15) -> 0 | O15: =SUM(C15,I15) -> 0 | P15: =SUM(D15,J15) -> 0 | Q15: =SUM(E15,K15) -> 0 | R15: =SUM(F15,L15) -> 0 | S15: =SUM(N15:R15) -> 0 | Y15: =SUM(T15:X15) -> 0 | AE15: =SUM(Z15:AD15) -> 0 | AK15: =SUM(AF15:AJ15) -> 0 | AL15: =SUM(T15,Z15,AF15) -> 0 | AM15: =SUM(U15,AA15,AG15) -> 0 | AN15: =SUM(V15,AB15,AH15) -> 0 | AO15: =SUM(W15,AC15,AI15) -> 0 | AP15: =SUM(X15,AD15,AJ15) -> 0 | AQ15: =SUM(AL15:AP15) -> 0 | AW15: =SUM(AR15:AV15) -> 0 | BD15: =SUM(AX15:BC15) -> 0 | BJ15: =SUM(BE15:BI15) -> 0 | BK15: =SUM(AR15,AX15,BE15) -> 0 | BL15: =SUM(AS15,AY15,BF15) -> 0 | BM15: =SUM(AT15,AZ15,BG15) -> 0 | BN15: =SUM(AU15,BA15,BH15) -> 0 | BO15: =SUM(AV15,BB15,BI15) -> 0 | BP15: =SUM(BC15) -> 0 | BQ15: =SUM(BK15:BP15) -> 0 | BW15: =SUM(BR15:BV15) -> 0 | CC15: =SUM(BX15:CB15) -> 0 | CJ15: =SUM(CD15:CI15) -> 0 | CK15: =SUM(BR15,BX15,CD15) -> 0 | CL15: =SUM(BS15,BY15,CE15) -> 0 | CM15: =SUM(BT15,BZ15,CF15) -> 0 | CN15: =SUM(BU15,CA15,CG15) -> 0 | CO15: =SUM(BV15,CB15,CH15) -> 0 | CP15: =SUM(CI15) -> 0 | CQ15: =SUM(CK15:CP15) -> 0 | CX15: =SUM(CR15:CW15) -> 0 | DE15: =SUM(CY15:DD15) -> 0 | DL15: =SUM(DF15:DK15) -> 0 | DS15: =SUM(DM15:DR15) -> 0 | DT15: =SUM(CR15,CY15,DF15,DM15) -> 0 | DU15: =SUM(CS15,CZ15,DG15,DN15) -> 0 | DV15: =SUM(CT15,DA15,DH15,DO15) -> 0 | DW15: =SUM(CU15,DB15,DI15,DP15) -> 0 | DX15: =SUM(CV15,DC15,DJ15,DQ15) -> 0 | DY15: =SUM(CW15,DD15,DK15,DR15) -> 0 | DZ15: =SUM(DT15:DY15) -> 0 | EF15: =SUM(EA15:EE15) -> 0 | EL15: =SUM(EG15:EK15) -> 0 | ER15: =SUM(EM15:EQ15) -> 0 | EX15: =SUM(ES15:EW15) -> 0 | FD15: =SUM(EY15:FC15) -> 0 | FJ15: =SUM(FE15:FI15) -> 0 | FP15: =SUM(FK15:FO15) -> 0 | FQ15: =SUM(EA15,EG15,EM15,ES15,EY15,FE15,FK15) -> 0 | FR15: =SUM(EB15,EH15,EN15,ET15,EZ15,FF15,FL15) -> 0 | FS15: =SUM(EC15,EI15,EO15,EU15,FA15,FG15,FM15) -> 0 | FT15: =SUM(ED15,EJ15,EP15,EV15,FB15,FH15,FN15) -> 0 | FU15: =SUM(EE15,EK15,EQ15,EW15,FC15,FI15,FO15) -> 0 | FV15: =SUM(FQ15:FU15) -> 0 | GB15: =SUM(FW15:GA15) -> 0 | GH15: =SUM(GC15:GG15) -> 0 | GN15: =SUM(GI15:GM15) -> 0 | GT15: =SUM(GO15:GS15) -> 0 | GZ15: =SUM(GU15:GY15) -> 0 | HF15: =SUM(HA15:HE15) -> 0 | HL15: =SUM(HG15:HK15) -> 0 | HR15: =SUM(HM15:HQ15) -> 0 | HS15: =SUM(FW15,GC15,GI15,GO15,GU15,HA15,HG15,HM15) -> 0 | HT15: =SUM(FX15,GD15,GJ15,GP15,GV15,HB15,HH15,HN15) -> 0 | HU15: =SUM(HO15,HI15,HC15,GW15,GQ15,GK15,GE15,FY15) -> 0 | HV15: =SUM(HP15,HJ15,HD15,GX15,GR15,GL15,GF15,FZ15) -> 0 | HW15: =SUM(HQ15,HK15,HE15,GY15,GS15,GM15,GG15,GA15) -> 0 | HX15: =SUM(HS15:HW15) -> 0 | ID15: =SUM(HY15:IC15) -> 0 | IJ15: =SUM(IE15:II15) -> 0 | IP15: =SUM(IK15:IO15) -> 0 | IQ15: =SUM(HY15,IE15,IK15) -> 0 | IR15: =SUM(HZ15,IF15,IL15) -> 0 | IS15: =SUM(IA15,IG15,IM15) -> 0 | IT15: =SUM(IB15,IH15,IN15) -> 0 | IU15: =SUM(IC15,II15,IO15) -> 0 | IV15: =SUM(IQ15:IU15) -> 0 | JB15: =SUM(IW15:JA15) -> 0 | JH15: =SUM(JC15:JG15) -> 0 | JN15: =SUM(JI15:JM15) -> 0 | JO15: =SUM(IW15,JC15,JI15) -> 0 | JP15: =SUM(IX15,JD15,JJ15) -> 0 | JQ15: =SUM(IY15,JE15,JK15) -> 0 | JR15: =SUM(IZ15,JF15,JL15) -> 0 | JS15: =SUM(JA15,JG15,JM15) -> 0 | JT15: =SUM(JO15:JS15) -> 0 | JV15: =SUM(N15,AL15,BK15,CK15,DT15,FQ15,HS15,IQ15,JO15) -> 0 | JW15: =SUM(O15,AM15,BL15,CL15,DU15,FR15,HT15,IR15,JP15) -> 0 | JX15: =SUM(P15,AN15,BM15,CM15,DV15,FS15,HU15,IS15,JQ15) -> 0 | JY15: =SUM(Q15,AO15,BN15,CN15,DW15,FT15,HV15,IT15,JR15) -> 0 | JZ15: =SUM(R15,AP15,BO15,CO15,DX15,FU15,HW15,IU15,JS15) -> 0 | KA15: =SUM(BP15,CP15,DY15) -> 0 | KB15: =SUM(JV15:KA15) -> 0
